Workbook

Sheet Start her
B2: Timeregistrering
B3: Registrér dine timer pr. kunde og projekt og se hvad du kan fakturere.
B5: SÅDAN BRUGER DU DEN
B6: 1. Opsætning Skriv din timepris og dine kunder eller projekter på fanen Opsætning.
B7: 2. Timer Skriv dato, projekt, start, slut og pause i minutter. Timer og beløb regnes ud automatisk.
B8: 3. Oversigt Vælg en måned og se timer og beløb fordelt på projekter, klar til fakturering.
B10: TIPS
B11: • Skriv tider som 08:30. Brug kolon, ikke punktum.
B12: • Sæt 'Fakturerbar' til Nej for interne timer, så de tæller med i tiden, men ikke i beløbet.
B14: FARVEGUIDE
B15: Gule felter = felter du udfylder. Hvide og grønne felter beregnes automatisk, så dem skal du ikke røre.
B17: Gratis skabelon fra Kroneklar. Virker i Excel og Google Sheets.

Sheet Opsætning
A1: Opsætning
A4: Timepris (ekskl. moms) | B4: 650
A6: KUNDER / PROJEKTER
A7: Kunde A/S – webshop
A8: Café Kaffebønnen
A9: Intern administration

Sheet Timer
A1: Timer
A2: En linje pr. arbejdsperiode.
C3: Eksempelrækker (5-10). Slet dem før brug.
A4: Dato | B4: Projekt | C4: Start | D4: Slut | E4: Pause (min) | F4: Timer | G4: Fakturerbar | H4: Beløb | I4: Note
A5: 46391 | B5: Kunde A/S – webshop | C5: 0.35416667 | D5: 0.5 | E5: 0 | F5: =IF(OR(C5="",D5=""),"",ROUND((MOD(D5-C5,1))*24-N(E5)/60,2)) -> 3.5 | G5: Ja | H5: =IF(F5="","",IF(G5="Nej",0,F5*Opsætning!$B$4)) -> 2275
A6: 46391 | B6: Café Kaffebønnen | C6: 0.52083333 | D6: 0.64583333 | E6: 15 | F6: =IF(OR(C6="",D6=""),"",ROUND((MOD(D6-C6,1))*24-N(E6)/60,2)) -> 2.75 | G6: Ja | H6: =IF(F6="","",IF(G6="Nej",0,F6*Opsætning!$B$4)) -> 1787.5
A7: 46392 | B7: Kunde A/S – webshop | C7: 0.375 | D7: 0.66666667 | E7: 30 | F7: =IF(OR(C7="",D7=""),"",ROUND((MOD(D7-C7,1))*24-N(E7)/60,2)) -> 6.5 | G7: Ja | H7: =IF(F7="","",IF(G7="Nej",0,F7*Opsætning!$B$4)) -> 4225
A8: 46393 | B8: Intern administration | C8: 0.375 | D8: 0.4375 | E8: 0 | F8: =IF(OR(C8="",D8=""),"",ROUND((MOD(D8-C8,1))*24-N(E8)/60,2)) -> 1.5 | G8: Nej | H8: =IF(F8="","",IF(G8="Nej",0,F8*Opsætning!$B$4)) -> 0
A9: 46393 | B9: Kunde A/S – webshop | C9: 0.4375 | D9: 0.625 | E9: 30 | F9: =IF(OR(C9="",D9=""),"",ROUND((MOD(D9-C9,1))*24-N(E9)/60,2)) -> 4 | G9: Ja | H9: =IF(F9="","",IF(G9="Nej",0,F9*Opsætning!$B$4)) -> 2600
A10: 46394 | B10: Café Kaffebønnen | C10: 0.33333333 | D10: 0.45833333 | E10: 0 | F10: =IF(OR(C10="",D10=""),"",ROUND((MOD(D10-C10,1))*24-N(E10)/60,2)) -> 3 | G10: Ja | H10: =IF(F10="","",IF(G10="Nej",0,F10*Opsætning!$B$4)) -> 1950
F11: =IF(OR(C11="",D11=""),"",ROUND((MOD(D11-C11,1))*24-N(E11)/60,2)) | H11: =IF(F11="","",IF(G11="Nej",0,F11*Opsætning!$B$4))
F12: =IF(OR(C12="",D12=""),"",ROUND((MOD(D12-C12,1))*24-N(E12)/60,2)) | H12: =IF(F12="","",IF(G12="Nej",0,F12*Opsætning!$B$4))
F13: =IF(OR(C13="",D13=""),"",ROUND((MOD(D13-C13,1))*24-N(E13)/60,2)) | H13: =IF(F13="","",IF(G13="Nej",0,F13*Opsætning!$B$4))
F14: =IF(OR(C14="",D14=""),"",ROUND((MOD(D14-C14,1))*24-N(E14)/60,2)) | H14: =IF(F14="","",IF(G14="Nej",0,F14*Opsætning!$B$4))
F15: =IF(OR(C15="",D15=""),"",ROUND((MOD(D15-C15,1))*24-N(E15)/60,2)) | H15: =IF(F15="","",IF(G15="Nej",0,F15*Opsætning!$B$4))
F16: =IF(OR(C16="",D16=""),"",ROUND((MOD(D16-C16,1))*24-N(E16)/60,2)) | H16: =IF(F16="","",IF(G16="Nej",0,F16*Opsætning!$B$4))
F17: =IF(OR(C17="",D17=""),"",ROUND((MOD(D17-C17,1))*24-N(E17)/60,2)) | H17: =IF(F17="","",IF(G17="Nej",0,F17*Opsætning!$B$4))
F18: =IF(OR(C18="",D18=""),"",ROUND((MOD(D18-C18,1))*24-N(E18)/60,2)) | H18: =IF(F18="","",IF(G18="Nej",0,F18*Opsætning!$B$4))
F19: =IF(OR(C19="",D19=""),"",ROUND((MOD(D19-C19,1))*24-N(E19)/60,2)) | H19: =IF(F19="","",IF(G19="Nej",0,F19*Opsætning!$B$4))
F20: =IF(OR(C20="",D20=""),"",ROUND((MOD(D20-C20,1))*24-N(E20)/60,2)) | H20: =IF(F20="","",IF(G20="Nej",0,F20*Opsætning!$B$4))
F21: =IF(OR(C21="",D21=""),"",ROUND((MOD(D21-C21,1))*24-N(E21)/60,2)) | H21: =IF(F21="","",IF(G21="Nej",0,F21*Opsætning!$B$4))
F22: =IF(OR(C22="",D22=""),"",ROUND((MOD(D22-C22,1))*24-N(E22)/60,2)) | H22: =IF(F22="","",IF(G22="Nej",0,F22*Opsætning!$B$4))
... F504: =IF(OR(C504="",D504=""),"",ROUND((MOD(D504-C504,1))*24-N(E504)/60,2)) | H504: =IF(F504="","",IF(G504="Nej",0,F504*Opsætning!$B$4))

Sheet Oversigt
A1: Oversigt
A2: Måned: | B2: 46388
A4: Projekt | B4: Timer | C4: Fakturerbare | D4: Beløb
A5: =IF(Opsætning!A7="","",Opsætning!A7) -> Kunde A/S – webshop | B5: =IF(A5="","",SUMIFS(Timer!$F$5:$F$504,Timer!$B$5:$B$504,A5,Timer!$A$5:$A$504,">="&$B$2,Timer!$A$5:$A$504,"<="&EOMONTH($B$2,0))) -> 14 | C5: =IF(A5="","",SUMIFS(Timer!$F$5:$F$504,Timer!$B$5:$B$504,A5,Timer!$A$5:$A$504,">="&$B$2,Timer!$A$5:$A$504,"<="&EOMONTH($B$2,0),Timer!$G$5:$G$504,"Ja")) -> 14 | D5: =IF(A5="","",SUMIFS(Timer!$H$5:$H$504,Timer!$B$5:$B$504,A5,Timer!$A$5:$A$504,">="&$B$2,Timer!$A$5:$A$504,"<="&EOMONTH($B$2,0))) -> 9100
A6: =IF(Opsætning!A8="","",Opsætning!A8) -> Café Kaffebønnen | B6: =IF(A6="","",SUMIFS(Timer!$F$5:$F$504,Timer!$B$5:$B$504,A6,Timer!$A$5:$A$504,">="&$B$2,Timer!$A$5:$A$504,"<="&EOMONTH($B$2,0))) -> 5.75 | C6: =IF(A6="","",SUMIFS(Timer!$F$5:$F$504,Timer!$B$5:$B$504,A6,Timer!$A$5:$A$504,">="&$B$2,Timer!$A$5:$A$504,"<="&EOMONTH($B$2,0),Timer!$G$5:$G$504,"Ja")) -> 5.75 | D6: =IF(A6="","",SUMIFS(Timer!$H$5:$H$504,Timer!$B$5:$B$504,A6,Timer!$A$5:$A$504,">="&$B$2,Timer!$A$5:$A$504,"<="&EOMONTH($B$2,0))) -> 3737.5
A7: =IF(Opsætning!A9="","",Opsætning!A9) -> Intern administration | B7: =IF(A7="","",SUMIFS(Timer!$F$5:$F$504,Timer!$B$5:$B$504,A7,Timer!$A$5:$A$504,">="&$B$2,Timer!$A$5:$A$504,"<="&EOMONTH($B$2,0))) -> 1.5 | C7: =IF(A7="","",SUMIFS(Timer!$F$5:$F$504,Timer!$B$5:$B$504,A7,Timer!$A$5:$A$504,">="&$B$2,Timer!$A$5:$A$504,"<="&EOMONTH($B$2,0),Timer!$G$5:$G$504,"Ja")) -> 0 | D7: =IF(A7="","",SUMIFS(Timer!$H$5:$H$504,Timer!$B$5:$B$504,A7,Timer!$A$5:$A$504,">="&$B$2,Timer!$A$5:$A$504,"<="&EOMONTH($B$2,0))) -> 0
A8: =IF(Opsætning!A10="","",Opsætning!A10) | B8: =IF(A8="","",SUMIFS(Timer!$F$5:$F$504,Timer!$B$5:$B$504,A8,Timer!$A$5:$A$504,">="&$B$2,Timer!$A$5:$A$504,"<="&EOMONTH($B$2,0))) | C8: =IF(A8="","",SUMIFS(Timer!$F$5:$F$504,Timer!$B$5:$B$504,A8,Timer!$A$5:$A$504,">="&$B$2,Timer!$A$5:$A$504,"<="&EOMONTH($B$2,0),Timer!$G$5:$G$504,"Ja")) | D8: =IF(A8="","",SUMIFS(Timer!$H$5:$H$504,Timer!$B$5:$B$504,A8,Timer!$A$5:$A$504,">="&$B$2,Timer!$A$5:$A$504,"<="&EOMONTH($B$2,0)))
A9: =IF(Opsætning!A11="","",Opsætning!A11) | B9: =IF(A9="","",SUMIFS(Timer!$F$5:$F$504,Timer!$B$5:$B$504,A9,Timer!$A$5:$A$504,">="&$B$2,Timer!$A$5:$A$504,"<="&EOMONTH($B$2,0))) | C9: =IF(A9="","",SUMIFS(Timer!$F$5:$F$504,Timer!$B$5:$B$504,A9,Timer!$A$5:$A$504,">="&$B$2,Timer!$A$5:$A$504,"<="&EOMONTH($B$2,0),Timer!$G$5:$G$504,"Ja")) | D9: =IF(A9="","",SUMIFS(Timer!$H$5:$H$504,Timer!$B$5:$B$504,A9,Timer!$A$5:$A$504,">="&$B$2,Timer!$A$5:$A$504,"<="&EOMONTH($B$2,0)))
A10: =IF(Opsætning!A12="","",Opsætning!A12) | B10: =IF(A10="","",SUMIFS(Timer!$F$5:$F$504,Timer!$B$5:$B$504,A10,Timer!$A$5:$A$504,">="&$B$2,Timer!$A$5:$A$504,"<="&EOMONTH($B$2,0))) | C10: =IF(A10="","",SUMIFS(Timer!$F$5:$F$504,Timer!$B$5:$B$504,A10,Timer!$A$5:$A$504,">="&$B$2,Timer!$A$5:$A$504,"<="&EOMONTH($B$2,0),Timer!$G$5:$G$504,"Ja")) | D10: =IF(A10="","",SUMIFS(Timer!$H$5:$H$504,Timer!$B$5:$B$504,A10,Timer!$A$5:$A$504,">="&$B$2,Timer!$A$5:$A$504,"<="&EOMONTH($B$2,0)))
A11: =IF(Opsætning!A13="","",Opsætning!A13) | B11: =IF(A11="","",SUMIFS(Timer!$F$5:$F$504,Timer!$B$5:$B$504,A11,Timer!$A$5:$A$504,">="&$B$2,Timer!$A$5:$A$504,"<="&EOMONTH($B$2,0))) | C11: =IF(A11="","",SUMIFS(Timer!$F$5:$F$504,Timer!$B$5:$B$504,A11,Timer!$A$5:$A$504,">="&$B$2,Timer!$A$5:$A$504,"<="&EOMONTH($B$2,0),Timer!$G$5:$G$504,"Ja")) | D11: =IF(A11="","",SUMIFS(Timer!$H$5:$H$504,Timer!$B$5:$B$504,A11,Timer!$A$5:$A$504,">="&$B$2,Timer!$A$5:$A$504,"<="&EOMONTH($B$2,0)))
A12: =IF(Opsætning!A14="","",Opsætning!A14) | B12: =IF(A12="","",SUMIFS(Timer!$F$5:$F$504,Timer!$B$5:$B$504,A12,Timer!$A$5:$A$504,">="&$B$2,Timer!$A$5:$A$504,"<="&EOMONTH($B$2,0))) | C12: =IF(A12="","",SUMIFS(Timer!$F$5:$F$504,Timer!$B$5:$B$504,A12,Timer!$A$5:$A$504,">="&$B$2,Timer!$A$5:$A$504,"<="&EOMONTH($B$2,0),Timer!$G$5:$G$504,"Ja")) | D12: =IF(A12="","",SUMIFS(Timer!$H$5:$H$504,Timer!$B$5:$B$504,A12,Timer!$A$5:$A$504,">="&$B$2,Timer!$A$5:$A$504,"<="&EOMONTH($B$2,0)))
A13: =IF(Opsætning!A15="","",Opsætning!A15) | B13: =IF(A13="","",SUMIFS(Timer!$F$5:$F$504,Timer!$B$5:$B$504,A13,Timer!$A$5:$A$504,">="&$B$2,Timer!$A$5:$A$504,"<="&EOMONTH($B$2,0))) | C13: =IF(A13="","",SUMIFS(Timer!$F$5:$F$504,Timer!$B$5:$B$504,A13,Timer!$A$5:$A$504,">="&$B$2,Timer!$A$5:$A$504,"<="&EOMONTH($B$2,0),Timer!$G$5:$G$504,"Ja")) | D13: =IF(A13="","",SUMIFS(Timer!$H$5:$H$504,Timer!$B$5:$B$504,A13,Timer!$A$5:$A$504,">="&$B$2,Timer!$A$5:$A$504,"<="&EOMONTH($B$2,0)))
A14: =IF(Opsætning!A16="","",Opsætning!A16) | B14: =IF(A14="","",SUMIFS(Timer!$F$5:$F$504,Timer!$B$5:$B$504,A14,Timer!$A$5:$A$504,">="&$B$2,Timer!$A$5:$A$504,"<="&EOMONTH($B$2,0))) | C14: =IF(A14="","",SUMIFS(Timer!$F$5:$F$504,Timer!$B$5:$B$504,A14,Timer!$A$5:$A$504,">="&$B$2,Timer!$A$5:$A$504,"<="&EOMONTH($B$2,0),Timer!$G$5:$G$504,"Ja")) | D14: =IF(A14="","",SUMIFS(Timer!$H$5:$H$504,Timer!$B$5:$B$504,A14,Timer!$A$5:$A$504,">="&$B$2,Timer!$A$5:$A$504,"<="&EOMONTH($B$2,0)))
A15: =IF(Opsætning!A17="","",Opsætning!A17) | B15: =IF(A15="","",SUMIFS(Timer!$F$5:$F$504,Timer!$B$5:$B$504,A15,Timer!$A$5:$A$504,">="&$B$2,Timer!$A$5:$A$504,"<="&EOMONTH($B$2,0))) | C15: =IF(A15="","",SUMIFS(Timer!$F$5:$F$504,Timer!$B$5:$B$504,A15,Timer!$A$5:$A$504,">="&$B$2,Timer!$A$5:$A$504,"<="&EOMONTH($B$2,0),Timer!$G$5:$G$504,"Ja")) | D15: =IF(A15="","",SUMIFS(Timer!$H$5:$H$504,Timer!$B$5:$B$504,A15,Timer!$A$5:$A$504,">="&$B$2,Timer!$A$5:$A$504,"<="&EOMONTH($B$2,0)))
A16: =IF(Opsætning!A18="","",Opsætning!A18) | B16: =IF(A16="","",SUMIFS(Timer!$F$5:$F$504,Timer!$B$5:$B$504,A16,Timer!$A$5:$A$504,">="&$B$2,Timer!$A$5:$A$504,"<="&EOMONTH($B$2,0))) | C16: =IF(A16="","",SUMIFS(Timer!$F$5:$F$504,Timer!$B$5:$B$504,A16,Timer!$A$5:$A$504,">="&$B$2,Timer!$A$5:$A$504,"<="&EOMONTH($B$2,0),Timer!$G$5:$G$504,"Ja")) | D16: =IF(A16="","",SUMIFS(Timer!$H$5:$H$504,Timer!$B$5:$B$504,A16,Timer!$A$5:$A$504,">="&$B$2,Timer!$A$5:$A$504,"<="&EOMONTH($B$2,0)))
... A19: =IF(Opsætning!A21="","",Opsætning!A21) | B19: =IF(A19="","",SUMIFS(Timer!$F$5:$F$504,Timer!$B$5:$B$504,A19,Timer!$A$5:$A$504,">="&$B$2,Timer!$A$5:$A$504,"<="&EOMONTH($B$2,0))) | C19: =IF(A19="","",SUMIFS(Timer!$F$5:$F$504,Timer!$B$5:$B$504,A19,Timer!$A$5:$A$504,">="&$B$2,Timer!$A$5:$A$504,"<="&EOMONTH($B$2,0),Timer!$G$5:$G$504,"Ja")) | D19: =IF(A19="","",SUMIFS(Timer!$H$5:$H$504,Timer!$B$5:$B$504,A19,Timer!$A$5:$A$504,">="&$B$2,Timer!$A$5:$A$504,"<="&EOMONTH($B$2,0)))
A20: I alt | B20: =SUM(B5:B19) -> 21.25 | C20: =SUM(C5:C19) -> 19.75 | D20: =SUM(D5:D19) -> 12837.5
A21: Faktureringsgrad | C21: =IF(B20=0,"",C20/B20) -> 0.92941176
