Workbook

Sheet Start her
B2: Lønkørsel & lønafstemning
B3: Lønliste for flere medarbejdere, afstemning mod eIndkomst og bogføring samt tjekliste.
B5: SÅDAN BRUGER DU DEN
B6: 1. Fanen 'Lønliste': skriv én medarbejder pr. linje med lønform, løn, pension, ATP, trækprocent og fradrag.
B7: 2. Bruttoløn, AM-bidrag, A-skat, nettoløn og samlet lønomkostning regnes automatisk – med totaler nederst.
B8: 3. Fanen 'eIndkomst & afstemning': skriv de beløb, du har indberettet og bogført, og se om de stemmer.
B9: 4. Fanen 'Tjekliste lønkørsel': følg trinene hver måned, så du ikke glemmer noget.
B11: TIPS
B12: Lav lønkørslen på samme tid hver måned – det gør afstemningen nemmere.
B13: Rettelser i eIndkomst skal laves hurtigst muligt, hvis afstemningen viser afvigelser.
B14: Skabelonen er et hjælpeværktøj til små virksomheder – tjek altid aktuelle regler på skat.dk.
B16: Gratis skabelon fra Kroneklar. Virker i Excel og Google Sheets.

Sheet Lønliste
A1: Lønkørsel – lønliste for perioden
A2: Én linje pr. medarbejder. Gule felter udfylder du – resten (brutto, AM-bidrag, A-skat, netto og omkostning) regnes automatisk.
A4: Navn | B4: Lønform | C4: Timer | D4: Sats / md.løn | E4: Tillæg | F4: Egen pens. % | G4: AG pens. % | H4: ATP medarb. | I4: Trækprocent | J4: Md.fradrag | K4: Bruttoløn | L4: Egen pension | M4: AM-grundlag | N4: AM-bidrag | O4: A-skat | P4: Nettoløn | Q4: AG pension | R4: ATP AG | S4: Lønomkostning
A5: Anna Jensen | B5: Månedsløn | D5: 34000 | E5: 0 | F5: 0.04 | G5: 0.08 | H5: 99 | I5: 0.37 | J5: 4500 | K5: =IF($A5="","",IF(B5="Timeløn",ROUND(C5*D5,2),D5)+E5) | L5: =IF($A5="","",ROUND(K5*F5,2)) | M5: =IF($A5="","",K5-L5-H5) | N5: =IF($A5="","",ROUND(M5*0.08,2)) | O5: =IF($A5="","",ROUND(MAX(0,M5-N5-J5)*I5,2)) | P5: =IF($A5="","",M5-N5-O5) | Q5: =IF($A5="","",ROUND(K5*G5,2)) | R5: =IF($A5="","",H5*2) | S5: =IF($A5="","",K5+Q5+R5)
A6: Mikkel Hansen | B6: Timeløn | C6: 120 | D6: 185 | E6: 600 | F6: 0 | G6: 0 | H6: 66 | I6: 0.38 | J6: 4500 | K6: =IF($A6="","",IF(B6="Timeløn",ROUND(C6*D6,2),D6)+E6) | L6: =IF($A6="","",ROUND(K6*F6,2)) | M6: =IF($A6="","",K6-L6-H6) | N6: =IF($A6="","",ROUND(M6*0.08,2)) | O6: =IF($A6="","",ROUND(MAX(0,M6-N6-J6)*I6,2)) | P6: =IF($A6="","",M6-N6-O6) | Q6: =IF($A6="","",ROUND(K6*G6,2)) | R6: =IF($A6="","",H6*2) | S6: =IF($A6="","",K6+Q6+R6)
A7: Sara Nielsen | B7: Månedsløn | D7: 29500 | E7: 1500 | F7: 0.03 | G7: 0.09 | H7: 99 | I7: 0.36 | J7: 4500 | K7: =IF($A7="","",IF(B7="Timeløn",ROUND(C7*D7,2),D7)+E7) | L7: =IF($A7="","",ROUND(K7*F7,2)) | M7: =IF($A7="","",K7-L7-H7) | N7: =IF($A7="","",ROUND(M7*0.08,2)) | O7: =IF($A7="","",ROUND(MAX(0,M7-N7-J7)*I7,2)) | P7: =IF($A7="","",M7-N7-O7) | Q7: =IF($A7="","",ROUND(K7*G7,2)) | R7: =IF($A7="","",H7*2) | S7: =IF($A7="","",K7+Q7+R7)
K8: =IF($A8="","",IF(B8="Timeløn",ROUND(C8*D8,2),D8)+E8) | L8: =IF($A8="","",ROUND(K8*F8,2)) | M8: =IF($A8="","",K8-L8-H8) | N8: =IF($A8="","",ROUND(M8*0.08,2)) | O8: =IF($A8="","",ROUND(MAX(0,M8-N8-J8)*I8,2)) | P8: =IF($A8="","",M8-N8-O8) | Q8: =IF($A8="","",ROUND(K8*G8,2)) | R8: =IF($A8="","",H8*2) | S8: =IF($A8="","",K8+Q8+R8)
K9: =IF($A9="","",IF(B9="Timeløn",ROUND(C9*D9,2),D9)+E9) | L9: =IF($A9="","",ROUND(K9*F9,2)) | M9: =IF($A9="","",K9-L9-H9) | N9: =IF($A9="","",ROUND(M9*0.08,2)) | O9: =IF($A9="","",ROUND(MAX(0,M9-N9-J9)*I9,2)) | P9: =IF($A9="","",M9-N9-O9) | Q9: =IF($A9="","",ROUND(K9*G9,2)) | R9: =IF($A9="","",H9*2) | S9: =IF($A9="","",K9+Q9+R9)
K10: =IF($A10="","",IF(B10="Timeløn",ROUND(C10*D10,2),D10)+E10) | L10: =IF($A10="","",ROUND(K10*F10,2)) | M10: =IF($A10="","",K10-L10-H10) | N10: =IF($A10="","",ROUND(M10*0.08,2)) | O10: =IF($A10="","",ROUND(MAX(0,M10-N10-J10)*I10,2)) | P10: =IF($A10="","",M10-N10-O10) | Q10: =IF($A10="","",ROUND(K10*G10,2)) | R10: =IF($A10="","",H10*2) | S10: =IF($A10="","",K10+Q10+R10)
K11: =IF($A11="","",IF(B11="Timeløn",ROUND(C11*D11,2),D11)+E11) | L11: =IF($A11="","",ROUND(K11*F11,2)) | M11: =IF($A11="","",K11-L11-H11) | N11: =IF($A11="","",ROUND(M11*0.08,2)) | O11: =IF($A11="","",ROUND(MAX(0,M11-N11-J11)*I11,2)) | P11: =IF($A11="","",M11-N11-O11) | Q11: =IF($A11="","",ROUND(K11*G11,2)) | R11: =IF($A11="","",H11*2) | S11: =IF($A11="","",K11+Q11+R11)
K12: =IF($A12="","",IF(B12="Timeløn",ROUND(C12*D12,2),D12)+E12) | L12: =IF($A12="","",ROUND(K12*F12,2)) | M12: =IF($A12="","",K12-L12-H12) | N12: =IF($A12="","",ROUND(M12*0.08,2)) | O12: =IF($A12="","",ROUND(MAX(0,M12-N12-J12)*I12,2)) | P12: =IF($A12="","",M12-N12-O12) | Q12: =IF($A12="","",ROUND(K12*G12,2)) | R12: =IF($A12="","",H12*2) | S12: =IF($A12="","",K12+Q12+R12)
K13: =IF($A13="","",IF(B13="Timeløn",ROUND(C13*D13,2),D13)+E13) | L13: =IF($A13="","",ROUND(K13*F13,2)) | M13: =IF($A13="","",K13-L13-H13) | N13: =IF($A13="","",ROUND(M13*0.08,2)) | O13: =IF($A13="","",ROUND(MAX(0,M13-N13-J13)*I13,2)) | P13: =IF($A13="","",M13-N13-O13) | Q13: =IF($A13="","",ROUND(K13*G13,2)) | R13: =IF($A13="","",H13*2) | S13: =IF($A13="","",K13+Q13+R13)
K14: =IF($A14="","",IF(B14="Timeløn",ROUND(C14*D14,2),D14)+E14) | L14: =IF($A14="","",ROUND(K14*F14,2)) | M14: =IF($A14="","",K14-L14-H14) | N14: =IF($A14="","",ROUND(M14*0.08,2)) | O14: =IF($A14="","",ROUND(MAX(0,M14-N14-J14)*I14,2)) | P14: =IF($A14="","",M14-N14-O14) | Q14: =IF($A14="","",ROUND(K14*G14,2)) | R14: =IF($A14="","",H14*2) | S14: =IF($A14="","",K14+Q14+R14)
K15: =IF($A15="","",IF(B15="Timeløn",ROUND(C15*D15,2),D15)+E15) | L15: =IF($A15="","",ROUND(K15*F15,2)) | M15: =IF($A15="","",K15-L15-H15) | N15: =IF($A15="","",ROUND(M15*0.08,2)) | O15: =IF($A15="","",ROUND(MAX(0,M15-N15-J15)*I15,2)) | P15: =IF($A15="","",M15-N15-O15) | Q15: =IF($A15="","",ROUND(K15*G15,2)) | R15: =IF($A15="","",H15*2) | S15: =IF($A15="","",K15+Q15+R15)
K16: =IF($A16="","",IF(B16="Timeløn",ROUND(C16*D16,2),D16)+E16) | L16: =IF($A16="","",ROUND(K16*F16,2)) | M16: =IF($A16="","",K16-L16-H16) | N16: =IF($A16="","",ROUND(M16*0.08,2)) | O16: =IF($A16="","",ROUND(MAX(0,M16-N16-J16)*I16,2)) | P16: =IF($A16="","",M16-N16-O16) | Q16: =IF($A16="","",ROUND(K16*G16,2)) | R16: =IF($A16="","",H16*2) | S16: =IF($A16="","",K16+Q16+R16)
K17: =IF($A17="","",IF(B17="Timeløn",ROUND(C17*D17,2),D17)+E17) | L17: =IF($A17="","",ROUND(K17*F17,2)) | M17: =IF($A17="","",K17-L17-H17) | N17: =IF($A17="","",ROUND(M17*0.08,2)) | O17: =IF($A17="","",ROUND(MAX(0,M17-N17-J17)*I17,2)) | P17: =IF($A17="","",M17-N17-O17) | Q17: =IF($A17="","",ROUND(K17*G17,2)) | R17: =IF($A17="","",H17*2) | S17: =IF($A17="","",K17+Q17+R17)
K18: =IF($A18="","",IF(B18="Timeløn",ROUND(C18*D18,2),D18)+E18) | L18: =IF($A18="","",ROUND(K18*F18,2)) | M18: =IF($A18="","",K18-L18-H18) | N18: =IF($A18="","",ROUND(M18*0.08,2)) | O18: =IF($A18="","",ROUND(MAX(0,M18-N18-J18)*I18,2)) | P18: =IF($A18="","",M18-N18-O18) | Q18: =IF($A18="","",ROUND(K18*G18,2)) | R18: =IF($A18="","",H18*2) | S18: =IF($A18="","",K18+Q18+R18)
K19: =IF($A19="","",IF(B19="Timeløn",ROUND(C19*D19,2),D19)+E19) | L19: =IF($A19="","",ROUND(K19*F19,2)) | M19: =IF($A19="","",K19-L19-H19) | N19: =IF($A19="","",ROUND(M19*0.08,2)) | O19: =IF($A19="","",ROUND(MAX(0,M19-N19-J19)*I19,2)) | P19: =IF($A19="","",M19-N19-O19) | Q19: =IF($A19="","",ROUND(K19*G19,2)) | R19: =IF($A19="","",H19*2) | S19: =IF($A19="","",K19+Q19+R19)
A20: I alt | E20: =SUM(E5:E19) | H20: =SUM(H5:H19) | K20: =SUM(K5:K19) | L20: =SUM(L5:L19) | M20: =SUM(M5:M19) | N20: =SUM(N5:N19) | O20: =SUM(O5:O19) | P20: =SUM(P5:P19) | Q20: =SUM(Q5:Q19) | R20: =SUM(R5:R19) | S20: =SUM(S5:S19)

Sheet eIndkomst & afstemning
A1: Lønafstemning – lønliste mod eIndkomst og bogføring
A2: Skriv de beløb, du har indberettet/bogført, i den gule kolonne. Afvigelser bliver markeret med rødt.
A4: Post | B4: Lønliste | C4: Indberettet / bogført | D4: Difference | E4: Status
A5: A-indkomst (AM-grundlag) | B5: =Lønliste!M20 | D5: =IF(C5="","",C5-B5) | E5: =IF(C5="","–",IF(ABS(C5-B5)<1,"OK ✓","Afvig"))
A6: AM-bidrag | B6: =Lønliste!N20 | D6: =IF(C6="","",C6-B6) | E6: =IF(C6="","–",IF(ABS(C6-B6)<1,"OK ✓","Afvig"))
A7: A-skat | B7: =Lønliste!O20 | D7: =IF(C7="","",C7-B7) | E7: =IF(C7="","–",IF(ABS(C7-B7)<1,"OK ✓","Afvig"))
A8: ATP i alt (medarb. + AG) | B8: =Lønliste!H20+Lønliste!R20 | D8: =IF(C8="","",C8-B8) | E8: =IF(C8="","–",IF(ABS(C8-B8)<1,"OK ✓","Afvig"))
A9: Pension i alt (egen + AG) | B9: =Lønliste!L20+Lønliste!Q20 | D9: =IF(C9="","",C9-B9) | E9: =IF(C9="","–",IF(ABS(C9-B9)<1,"OK ✓","Afvig"))
A10: Nettoløn til udbetaling (bank) | B10: =Lønliste!P20 | D10: =IF(C10="","",C10-B10) | E10: =IF(C10="","–",IF(ABS(C10-B10)<1,"OK ✓","Afvig"))
A11: Samlet lønomkostning | B11: =Lønliste!S20 | D11: =IF(C11="","",C11-B11) | E11: =IF(C11="","–",IF(ABS(C11-B11)<1,"OK ✓","Afvig"))
A13: Til betaling til Skattestyrelsen (A-skat + AM-bidrag): | B13: =B6+B7
A15: Frister: Løn skal indberettes i eIndkomst senest ved udbetaling. A-skat og AM-bidrag betales typisk senest den 10. i måneden efter (små virksomheder kan have andre frister – tjek skat.dk).

Sheet Tjekliste lønkørsel
A1: Tjekliste – månedlig lønkørsel
A3: # | B3: Opgave | C3: Deadline | D3: Status
A4: 1 | B4: Indsaml timesedler, fravær, overtid og tillæg for perioden | D4: Ikke startet
A5: 2 | B5: Tjek nye medarbejdere, fratrædelser og ændrede lønaftaler | D5: Ikke startet
A6: 3 | B6: Hent opdaterede skattekort (trækprocent og fradrag) i eIndkomst | D6: Ikke startet
A7: 4 | B7: Udfyld lønlisten og kontrollér brutto og nettoløn | D7: Ikke startet
A8: 5 | B8: Lav og send lønsedler til medarbejderne | D8: Ikke startet
A9: 6 | B9: Indberet lønnen i eIndkomst | D9: Ikke startet
A10: 7 | B10: Overfør nettoløn til medarbejdernes konti | D10: Ikke startet
A11: 8 | B11: Indbetal pension og ATP | D11: Ikke startet
A12: 9 | B12: Betal A-skat og AM-bidrag til Skattestyrelsen | D12: Ikke startet
A13: 10 | B13: Bogfør lønnen og afstem mod lønlisten (fanen eIndkomst & afstemning) | D13: Ikke startet
A14: 11 | B14: Indberet feriepenge til FerieKonto for timelønnede (hvis relevant) | D14: Ikke startet
A15: 12 | B15: Gem lønsedler og bilag (opbevares i 5 år) | D15: Ikke startet
