Workbook

Sheet Start her
B2: Budget 2027
B3: Planlæg, følg og forstå din økonomi – måned for måned.
B5: SÅDAN BRUGER DU DEN
B6: 1. Opsætning Skriv dine indtægtskilder og udgiftskategorier ind med et månedligt budget for hver. De gule felter er dine at udfylde.
B7: 2. Posteringer Notér alle indtægter og udgifter: dato, beskrivelse, kategori (vælg fra listen) og beløb. Type og måned udfyldes automatisk.
B8: 3. Årsoversigt Se alle kategorier måned for måned med årstotaler og hvordan du klarer dig i forhold til budgettet.
B9: 4. Overblik Vælg en måned øverst og se indtægter, forbrug, opsparingsrate og budget mod faktisk forbrug med grafer.
B11: TIPS
B12: • Der er eksempelposteringer med, så du kan se overblikket i aktion. Slet dem (fanen Posteringer, række 5-26), før du går i gang.
B13: • Skriv alle beløb som positive tal – skabelonen ved ud fra kategorien, om det er en indtægt eller en udgift.
B14: • Beløb vises i kroner. Bruger du en anden valuta, så markér beløbskolonnerne og skift talformat.
B15: • Omdøb eller tilføj kategorier i Opsætning når som helst – alle andre faner opdateres automatisk.
... B18: Gule felter = felter du udfylder. Hvide/grønne felter = beregnes automatisk (rør dem ikke).

Sheet Overblik
A1: Overblik | Z1: =MATCH(B4,Lister!$C$1:$C$12,0) -> 1
A2: Vælg en måned herunder – hele siden opdateres.
A4: Måned: | B4: Januar | D4: ◄ vælg måned
A6: INDTÆGTER | B6: UDGIFTER | C6: NETTO | D6: OPSPARINGSRATE
A7: =INDEX(Årsoversigt!$B$13:$M$13,$Z$1) -> 31500 | B7: =INDEX(Årsoversigt!$B$41:$M$41,$Z$1) -> 19491.65 | C7: =INDEX(Årsoversigt!$B$43:$M$43,$Z$1) -> 12008.35 | D7: =INDEX(Årsoversigt!$B$44:$M$44,$Z$1) -> 0.38121746
A8: ="Budgetteret rådighedsbeløb: "&TEXT(Opsætning!B44,"#,##0.00") -> Budgetteret rådighedsbeløb: 3,800.00
A10: Udgiftskategori | B10: Budget | C10: Faktisk | D10: Tilbage | E10: % brugt
A11: =Årsoversigt!A16 -> Husleje / boliglån | B11: =IF(A11="","",Opsætning!B16) -> 9500 | C11: =IF(A11="","",INDEX(Årsoversigt!$B16:$M16,$Z$1)) -> 9500 | D11: =IF(A11="","",B11-C11) -> 0 | E11: =IF(A11="","",IF(B11=0,IF(C11>0,1,0),C11/B11)) -> 1
A12: =Årsoversigt!A17 -> El, vand & varme | B12: =IF(A12="","",Opsætning!B17) -> 1200 | C12: =IF(A12="","",INDEX(Årsoversigt!$B17:$M17,$Z$1)) -> 780 | D12: =IF(A12="","",B12-C12) -> 420 | E12: =IF(A12="","",IF(B12=0,IF(C12>0,1,0),C12/B12)) -> 0.65
A13: =Årsoversigt!A18 -> Dagligvarer | B13: =IF(A13="","",Opsætning!B18) -> 3500 | C13: =IF(A13="","",INDEX(Årsoversigt!$B18:$M18,$Z$1)) -> 2251.65 | D13: =IF(A13="","",B13-C13) -> 1248.35 | E13: =IF(A13="","",IF(B13=0,IF(C13>0,1,0),C13/B13)) -> 0.64332857
A14: =Årsoversigt!A19 -> Transport | B14: =IF(A14="","",Opsætning!B19) -> 1400 | C14: =IF(A14="","",INDEX(Årsoversigt!$B19:$M19,$Z$1)) -> 450 | D14: =IF(A14="","",B14-C14) -> 950 | E14: =IF(A14="","",IF(B14=0,IF(C14>0,1,0),C14/B14)) -> 0.32142857
A15: =Årsoversigt!A20 -> Forsikringer | B15: =IF(A15="","",Opsætning!B20) -> 900 | C15: =IF(A15="","",INDEX(Årsoversigt!$B20:$M20,$Z$1)) -> 0 | D15: =IF(A15="","",B15-C15) -> 900 | E15: =IF(A15="","",IF(B15=0,IF(C15>0,1,0),C15/B15)) -> 0
A16: =Årsoversigt!A21 -> Mobil & internet | B16: =IF(A16="","",Opsætning!B21) -> 450 | C16: =IF(A16="","",INDEX(Årsoversigt!$B21:$M21,$Z$1)) -> 398 | D16: =IF(A16="","",B16-C16) -> 52 | E16: =IF(A16="","",IF(B16=0,IF(C16>0,1,0),C16/B16)) -> 0.88444444
A17: =Årsoversigt!A22 -> Abonnementer | B17: =IF(A17="","",Opsætning!B22) -> 300 | C17: =IF(A17="","",INDEX(Årsoversigt!$B22:$M22,$Z$1)) -> 229 | D17: =IF(A17="","",B17-C17) -> 71 | E17: =IF(A17="","",IF(B17=0,IF(C17>0,1,0),C17/B17)) -> 0.76333333
A18: =Årsoversigt!A23 -> Restaurant & takeaway | B18: =IF(A18="","",Opsætning!B23) -> 1000 | C18: =IF(A18="","",INDEX(Årsoversigt!$B23:$M23,$Z$1)) -> 385 | D18: =IF(A18="","",B18-C18) -> 615 | E18: =IF(A18="","",IF(B18=0,IF(C18>0,1,0),C18/B18)) -> 0.385
A19: =Årsoversigt!A24 -> Tøj & shopping | B19: =IF(A19="","",Opsætning!B24) -> 800 | C19: =IF(A19="","",INDEX(Årsoversigt!$B24:$M24,$Z$1)) -> 1199 | D19: =IF(A19="","",B19-C19) -> -399 | E19: =IF(A19="","",IF(B19=0,IF(C19>0,1,0),C19/B19)) -> 1.49875
A20: =Årsoversigt!A25 -> Sundhed & fitness | B20: =IF(A20="","",Opsætning!B25) -> 400 | C20: =IF(A20="","",INDEX(Årsoversigt!$B25:$M25,$Z$1)) -> 299 | D20: =IF(A20="","",B20-C20) -> 101 | E20: =IF(A20="","",IF(B20=0,IF(C20>0,1,0),C20/B20)) -> 0.7475
A21: =Årsoversigt!A26 -> Fritid & oplevelser | B21: =IF(A21="","",Opsætning!B26) -> 600 | C21: =IF(A21="","",INDEX(Årsoversigt!$B26:$M26,$Z$1)) -> 0 | D21: =IF(A21="","",B21-C21) -> 600 | E21: =IF(A21="","",IF(B21=0,IF(C21>0,1,0),C21/B21)) -> 0
A22: =Årsoversigt!A27 -> Gaver | B22: =IF(A22="","",Opsætning!B27) -> 300 | C22: =IF(A22="","",INDEX(Årsoversigt!$B27:$M27,$Z$1)) -> 0 | D22: =IF(A22="","",B22-C22) -> 300 | E22: =IF(A22="","",IF(B22=0,IF(C22>0,1,0),C22/B22)) -> 0
... A35: =Årsoversigt!A40 | B35: =IF(A35="","",Opsætning!B40) | C35: =IF(A35="","",INDEX(Årsoversigt!$B40:$M40,$Z$1)) | D35: =IF(A35="","",B35-C35) | E35: =IF(A35="","",IF(B35=0,IF(C35>0,1,0),C35/B35))
A36: I alt | B36: =SUM(B11:B35) -> 27200 | C36: =SUM(C11:C35) -> 19491.65 | D36: =B36-C36 -> 7708.35 | E36: =IF(B36=0,0,C36/B36) -> 0.71660478

Sheet Opsætning
A1: Opsætning
A2: Dine kategorier og månedlige budgetter. De gule felter kan redigeres.
A3: INDTÆGTER
A4: Kategori | B4: Budget pr. måned | D4: Beløbene er eksempler – erstat dem med dine egne.
A5: Løn | B5: 28000 | D5: Lad ubrugte rækker stå tomme.
A6: Bijob | B6: 3000
A7: Børnecheck / tilskud | B7: 0
A8: Andet | B8: 0
A14: UDGIFTER
A15: Kategori | B15: Budget pr. måned
A16: Husleje / boliglån | B16: 9500
A17: El, vand & varme | B17: 1200
A18: Dagligvarer | B18: 3500
A19: Transport | B19: 1400
A20: Forsikringer | B20: 900
A21: Mobil & internet | B21: 450
A22: Abonnementer | B22: 300
A23: Restaurant & takeaway | B23: 1000
A24: Tøj & shopping | B24: 800
A25: Sundhed & fitness | B25: 400
A26: Fritid & oplevelser | B26: 600
A27: Gaver | B27: 300
... A31: Diverse | B31: 350
A42: Budgetterede indtægter pr. måned | B42: =SUM(B5:B12) -> 31000
A43: Budgetterede udgifter pr. måned | B43: =SUM(B16:B40) -> 27200
A44: Planlagt rådighedsbeløb pr. måned | B44: =B42-B43 -> 3800

Sheet Lister
A1: =IF(Opsætning!A5="","",Opsætning!A5) -> Løn | C1: Januar
A2: =IF(Opsætning!A6="","",Opsætning!A6) -> Bijob | C2: Februar
A3: =IF(Opsætning!A7="","",Opsætning!A7) -> Børnecheck / tilskud | C3: Marts
A4: =IF(Opsætning!A8="","",Opsætning!A8) -> Andet | C4: April
A5: =IF(Opsætning!A9="","",Opsætning!A9) | C5: Maj
A6: =IF(Opsætning!A10="","",Opsætning!A10) | C6: Juni
A7: =IF(Opsætning!A11="","",Opsætning!A11) | C7: Juli
A8: =IF(Opsætning!A12="","",Opsætning!A12) | C8: August
A9: =IF(Opsætning!A16="","",Opsætning!A16) -> Husleje / boliglån | C9: September
A10: =IF(Opsætning!A17="","",Opsætning!A17) -> El, vand & varme | C10: Oktober
A11: =IF(Opsætning!A18="","",Opsætning!A18) -> Dagligvarer | C11: November
A12: =IF(Opsætning!A19="","",Opsætning!A19) -> Transport | C12: December
A13: =IF(Opsætning!A20="","",Opsætning!A20) -> Forsikringer
A14: =IF(Opsætning!A21="","",Opsætning!A21) -> Mobil & internet
A15: =IF(Opsætning!A22="","",Opsætning!A22) -> Abonnementer
A16: =IF(Opsætning!A23="","",Opsætning!A23) -> Restaurant & takeaway
A17: =IF(Opsætning!A24="","",Opsætning!A24) -> Tøj & shopping
A18: =IF(Opsætning!A25="","",Opsætning!A25) -> Sundhed & fitness
A19: =IF(Opsætning!A26="","",Opsætning!A26) -> Fritid & oplevelser
A20: =IF(Opsætning!A27="","",Opsætning!A27) -> Gaver
A21: =IF(Opsætning!A28="","",Opsætning!A28) -> Rejser & ferie
A22: =IF(Opsætning!A29="","",Opsætning!A29) -> Afdrag på gæld
A23: =IF(Opsætning!A30="","",Opsætning!A30) -> Opsparing & investering
A24: =IF(Opsætning!A31="","",Opsætning!A31) -> Diverse
... A33: =IF(Opsætning!A40="","",Opsætning!A40)

Sheet Posteringer
A1: Posteringer
A2: Notér alle indtægter og udgifter. Udfyld de gule kolonner – Type og Måned kommer automatisk.
A4: Dato | B4: Beskrivelse | C4: Kategori | D4: Beløb | E4: Type | F4: Måned | H4: Eksempelrækker (5–26) – slet før brug
A5: 46388 | B5: Løn januar | C5: Løn | D5: 28000 | E5: =IF(C5="","",IF(COUNTIF(Opsætning!$A$5:$A$12,C5)>0,"Indtægt","Udgift")) -> Indtægt | F5: =IF(A5="","",MONTH(A5)) -> 1
A6: 46388 | B6: Husleje januar | C6: Husleje / boliglån | D6: 9500 | E6: =IF(C6="","",IF(COUNTIF(Opsætning!$A$5:$A$12,C6)>0,"Indtægt","Udgift")) -> Udgift | F6: =IF(A6="","",MONTH(A6)) -> 1
A7: 46390 | B7: Netto | C7: Dagligvarer | D7: 642.5 | E7: =IF(C7="","",IF(COUNTIF(Opsætning!$A$5:$A$12,C7)>0,"Indtægt","Udgift")) -> Udgift | F7: =IF(A7="","",MONTH(A7)) -> 1
A8: 46392 | B8: El-regning | C8: El, vand & varme | D8: 780 | E8: =IF(C8="","",IF(COUNTIF(Opsætning!$A$5:$A$12,C8)>0,"Indtægt","Udgift")) -> Udgift | F8: =IF(A8="","",MONTH(A8)) -> 1
A9: 46393 | B9: Rejsekort | C9: Transport | D9: 450 | E9: =IF(C9="","",IF(COUNTIF(Opsætning!$A$5:$A$12,C9)>0,"Indtægt","Udgift")) -> Udgift | F9: =IF(A9="","",MONTH(A9)) -> 1
A10: 46394 | B10: Streaming | C10: Abonnementer | D10: 229 | E10: =IF(C10="","",IF(COUNTIF(Opsætning!$A$5:$A$12,C10)>0,"Indtægt","Udgift")) -> Udgift | F10: =IF(A10="","",MONTH(A10)) -> 1
A11: 46396 | B11: Middag med venner | C11: Restaurant & takeaway | D11: 385 | E11: =IF(C11="","",IF(COUNTIF(Opsætning!$A$5:$A$12,C11)>0,"Indtægt","Udgift")) -> Udgift | F11: =IF(A11="","",MONTH(A11)) -> 1
A12: 46397 | B12: Freelanceopgave | C12: Bijob | D12: 3500 | E12: =IF(C12="","",IF(COUNTIF(Opsætning!$A$5:$A$12,C12)>0,"Indtægt","Udgift")) -> Indtægt | F12: =IF(A12="","",MONTH(A12)) -> 1
A13: 46397 | B13: Overførsel til opsparing | C13: Opsparing & investering | D13: 4000 | E13: =IF(C13="","",IF(COUNTIF(Opsætning!$A$5:$A$12,C13)>0,"Indtægt","Udgift")) -> Udgift | F13: =IF(A13="","",MONTH(A13)) -> 1
A14: 46400 | B14: Føtex | C14: Dagligvarer | D14: 896.75 | E14: =IF(C14="","",IF(COUNTIF(Opsætning!$A$5:$A$12,C14)>0,"Indtægt","Udgift")) -> Udgift | F14: =IF(A14="","",MONTH(A14)) -> 1
A15: 46402 | B15: Fitnessabonnement | C15: Sundhed & fitness | D15: 299 | E15: =IF(C15="","",IF(COUNTIF(Opsætning!$A$5:$A$12,C15)>0,"Indtægt","Udgift")) -> Udgift | F15: =IF(A15="","",MONTH(A15)) -> 1
A16: 46405 | B16: Vinterjakke | C16: Tøj & shopping | D16: 1199 | E16: =IF(C16="","",IF(COUNTIF(Opsætning!$A$5:$A$12,C16)>0,"Indtægt","Udgift")) -> Udgift | F16: =IF(A16="","",MONTH(A16)) -> 1
... A26: 46442 | B26: Netto | C26: Dagligvarer | D26: 768.9 | E26: =IF(C26="","",IF(COUNTIF(Opsætning!$A$5:$A$12,C26)>0,"Indtægt","Udgift")) -> Udgift | F26: =IF(A26="","",MONTH(A26)) -> 2
E27: =IF(C27="","",IF(COUNTIF(Opsætning!$A$5:$A$12,C27)>0,"Indtægt","Udgift")) | F27: =IF(A27="","",MONTH(A27))
E28: =IF(C28="","",IF(COUNTIF(Opsætning!$A$5:$A$12,C28)>0,"Indtægt","Udgift")) | F28: =IF(A28="","",MONTH(A28))
E29: =IF(C29="","",IF(COUNTIF(Opsætning!$A$5:$A$12,C29)>0,"Indtægt","Udgift")) | F29: =IF(A29="","",MONTH(A29))
E30: =IF(C30="","",IF(COUNTIF(Opsætning!$A$5:$A$12,C30)>0,"Indtægt","Udgift")) | F30: =IF(A30="","",MONTH(A30))
E31: =IF(C31="","",IF(COUNTIF(Opsætning!$A$5:$A$12,C31)>0,"Indtægt","Udgift")) | F31: =IF(A31="","",MONTH(A31))
E32: =IF(C32="","",IF(COUNTIF(Opsætning!$A$5:$A$12,C32)>0,"Indtægt","Udgift")) | F32: =IF(A32="","",MONTH(A32))
E33: =IF(C33="","",IF(COUNTIF(Opsætning!$A$5:$A$12,C33)>0,"Indtægt","Udgift")) | F33: =IF(A33="","",MONTH(A33))
E34: =IF(C34="","",IF(COUNTIF(Opsætning!$A$5:$A$12,C34)>0,"Indtægt","Udgift")) | F34: =IF(A34="","",MONTH(A34))
E35: =IF(C35="","",IF(COUNTIF(Opsætning!$A$5:$A$12,C35)>0,"Indtægt","Udgift")) | F35: =IF(A35="","",MONTH(A35))
E36: =IF(C36="","",IF(COUNTIF(Opsætning!$A$5:$A$12,C36)>0,"Indtægt","Udgift")) | F36: =IF(A36="","",MONTH(A36))
E37: =IF(C37="","",IF(COUNTIF(Opsætning!$A$5:$A$12,C37)>0,"Indtægt","Udgift")) | F37: =IF(A37="","",MONTH(A37))
E38: =IF(C38="","",IF(COUNTIF(Opsætning!$A$5:$A$12,C38)>0,"Indtægt","Udgift")) | F38: =IF(A38="","",MONTH(A38))
... E1004: =IF(C1004="","",IF(COUNTIF(Opsætning!$A$5:$A$12,C1004)>0,"Indtægt","Udgift")) | F1004: =IF(A1004="","",MONTH(A1004))

Sheet Årsoversigt
A1: Årsoversigt
A2: Alle kategorier, alle måneder – beregnet ud fra dine posteringer.
A3: Kategori | B3: Jan | C3: Feb | D3: Mar | E3: Apr | F3: Maj | G3: Jun | H3: Jul | I3: Aug | J3: Sep | K3: Okt | L3: Nov | M3: Dec | N3: I alt | O3: Årsbudget | P3: Over / under
A4: INDTÆGTER
A5: =IF(Opsætning!A5="","",Opsætning!A5) -> Løn | B5: =IF($A5="","",SUMIFS(Posteringer!$D$5:$D$1004,Posteringer!$C$5:$C$1004,$A5,Posteringer!$F$5:$F$1004,1)) -> 28000 | C5: =IF($A5="","",SUMIFS(Posteringer!$D$5:$D$1004,Posteringer!$C$5:$C$1004,$A5,Posteringer!$F$5:$F$1004,2)) -> 28000 | D5: =IF($A5="","",SUMIFS(Posteringer!$D$5:$D$1004,Posteringer!$C$5:$C$1004,$A5,Posteringer!$F$5:$F$1004,3)) -> 0 | E5: =IF($A5="","",SUMIFS(Posteringer!$D$5:$D$1004,Posteringer!$C$5:$C$1004,$A5,Posteringer!$F$5:$F$1004,4)) -> 0 | F5: =IF($A5="","",SUMIFS(Posteringer!$D$5:$D$1004,Posteringer!$C$5:$C$1004,$A5,Posteringer!$F$5:$F$1004,5)) -> 0 | G5: =IF($A5="","",SUMIFS(Posteringer!$D$5:$D$1004,Posteringer!$C$5:$C$1004,$A5,Posteringer!$F$5:$F$1004,6)) -> 0 | H5: =IF($A5="","",SUMIFS(Posteringer!$D$5:$D$1004,Posteringer!$C$5:$C$1004,$A5,Posteringer!$F$5:$F$1004,7)) -> 0 | I5: =IF($A5="","",SUMIFS(Posteringer!$D$5:$D$1004,Posteringer!$C$5:$C$1004,$A5,Posteringer!$F$5:$F$1004,8)) -> 0 | J5: =IF($A5="","",SUMIFS(Posteringer!$D$5:$D$1004,Posteringer!$C$5:$C$1004,$A5,Posteringer!$F$5:$F$1004,9)) -> 0 | K5: =IF($A5="","",SUMIFS(Posteringer!$D$5:$D$1004,Posteringer!$C$5:$C$1004,$A5,Posteringer!$F$5:$F$1004,10)) -> 0 | L5: =IF($A5="","",SUMIFS(Posteringer!$D$5:$D$1004,Posteringer!$C$5:$C$1004,$A5,Posteringer!$F$5:$F$1004,11)) -> 0 | M5: =IF($A5="","",SUMIFS(Posteringer!$D$5:$D$1004,Posteringer!$C$5:$C$1004,$A5,Posteringer!$F$5:$F$1004,12)) -> 0 | N5: =IF($A5="","",SUM(B5:M5)) -> 56000 | O5: =IF($A5="","",Opsætning!B5*12) -> 336000 | P5: =IF($A5="","",N5-O5) -> -280000
A6: =IF(Opsætning!A6="","",Opsætning!A6) -> Bijob | B6: =IF($A6="","",SUMIFS(Posteringer!$D$5:$D$1004,Posteringer!$C$5:$C$1004,$A6,Posteringer!$F$5:$F$1004,1)) -> 3500 | C6: =IF($A6="","",SUMIFS(Posteringer!$D$5:$D$1004,Posteringer!$C$5:$C$1004,$A6,Posteringer!$F$5:$F$1004,2)) -> 0 | D6: =IF($A6="","",SUMIFS(Posteringer!$D$5:$D$1004,Posteringer!$C$5:$C$1004,$A6,Posteringer!$F$5:$F$1004,3)) -> 0 | E6: =IF($A6="","",SUMIFS(Posteringer!$D$5:$D$1004,Posteringer!$C$5:$C$1004,$A6,Posteringer!$F$5:$F$1004,4)) -> 0 | F6: =IF($A6="","",SUMIFS(Posteringer!$D$5:$D$1004,Posteringer!$C$5:$C$1004,$A6,Posteringer!$F$5:$F$1004,5)) -> 0 | G6: =IF($A6="","",SUMIFS(Posteringer!$D$5:$D$1004,Posteringer!$C$5:$C$1004,$A6,Posteringer!$F$5:$F$1004,6)) -> 0 | H6: =IF($A6="","",SUMIFS(Posteringer!$D$5:$D$1004,Posteringer!$C$5:$C$1004,$A6,Posteringer!$F$5:$F$1004,7)) -> 0 | I6: =IF($A6="","",SUMIFS(Posteringer!$D$5:$D$1004,Posteringer!$C$5:$C$1004,$A6,Posteringer!$F$5:$F$1004,8)) -> 0 | J6: =IF($A6="","",SUMIFS(Posteringer!$D$5:$D$1004,Posteringer!$C$5:$C$1004,$A6,Posteringer!$F$5:$F$1004,9)) -> 0 | K6: =IF($A6="","",SUMIFS(Posteringer!$D$5:$D$1004,Posteringer!$C$5:$C$1004,$A6,Posteringer!$F$5:$F$1004,10)) -> 0 | L6: =IF($A6="","",SUMIFS(Posteringer!$D$5:$D$1004,Posteringer!$C$5:$C$1004,$A6,Posteringer!$F$5:$F$1004,11)) -> 0 | M6: =IF($A6="","",SUMIFS(Posteringer!$D$5:$D$1004,Posteringer!$C$5:$C$1004,$A6,Posteringer!$F$5:$F$1004,12)) -> 0 | N6: =IF($A6="","",SUM(B6:M6)) -> 3500 | O6: =IF($A6="","",Opsætning!B6*12) -> 36000 | P6: =IF($A6="","",N6-O6) -> -32500
A7: =IF(Opsætning!A7="","",Opsætning!A7) -> Børnecheck / tilskud | B7: =IF($A7="","",SUMIFS(Posteringer!$D$5:$D$1004,Posteringer!$C$5:$C$1004,$A7,Posteringer!$F$5:$F$1004,1)) -> 0 | C7: =IF($A7="","",SUMIFS(Posteringer!$D$5:$D$1004,Posteringer!$C$5:$C$1004,$A7,Posteringer!$F$5:$F$1004,2)) -> 0 | D7: =IF($A7="","",SUMIFS(Posteringer!$D$5:$D$1004,Posteringer!$C$5:$C$1004,$A7,Posteringer!$F$5:$F$1004,3)) -> 0 | E7: =IF($A7="","",SUMIFS(Posteringer!$D$5:$D$1004,Posteringer!$C$5:$C$1004,$A7,Posteringer!$F$5:$F$1004,4)) -> 0 | F7: =IF($A7="","",SUMIFS(Posteringer!$D$5:$D$1004,Posteringer!$C$5:$C$1004,$A7,Posteringer!$F$5:$F$1004,5)) -> 0 | G7: =IF($A7="","",SUMIFS(Posteringer!$D$5:$D$1004,Posteringer!$C$5:$C$1004,$A7,Posteringer!$F$5:$F$1004,6)) -> 0 | H7: =IF($A7="","",SUMIFS(Posteringer!$D$5:$D$1004,Posteringer!$C$5:$C$1004,$A7,Posteringer!$F$5:$F$1004,7)) -> 0 | I7: =IF($A7="","",SUMIFS(Posteringer!$D$5:$D$1004,Posteringer!$C$5:$C$1004,$A7,Posteringer!$F$5:$F$1004,8)) -> 0 | J7: =IF($A7="","",SUMIFS(Posteringer!$D$5:$D$1004,Posteringer!$C$5:$C$1004,$A7,Posteringer!$F$5:$F$1004,9)) -> 0 | K7: =IF($A7="","",SUMIFS(Posteringer!$D$5:$D$1004,Posteringer!$C$5:$C$1004,$A7,Posteringer!$F$5:$F$1004,10)) -> 0 | L7: =IF($A7="","",SUMIFS(Posteringer!$D$5:$D$1004,Posteringer!$C$5:$C$1004,$A7,Posteringer!$F$5:$F$1004,11)) -> 0 | M7: =IF($A7="","",SUMIFS(Posteringer!$D$5:$D$1004,Posteringer!$C$5:$C$1004,$A7,Posteringer!$F$5:$F$1004,12)) -> 0 | N7: =IF($A7="","",SUM(B7:M7)) -> 0 | O7: =IF($A7="","",Opsætning!B7*12) -> 0 | P7: =IF($A7="","",N7-O7) -> 0
A8: =IF(Opsætning!A8="","",Opsætning!A8) -> Andet | B8: =IF($A8="","",SUMIFS(Posteringer!$D$5:$D$1004,Posteringer!$C$5:$C$1004,$A8,Posteringer!$F$5:$F$1004,1)) -> 0 | C8: =IF($A8="","",SUMIFS(Posteringer!$D$5:$D$1004,Posteringer!$C$5:$C$1004,$A8,Posteringer!$F$5:$F$1004,2)) -> 0 | D8: =IF($A8="","",SUMIFS(Posteringer!$D$5:$D$1004,Posteringer!$C$5:$C$1004,$A8,Posteringer!$F$5:$F$1004,3)) -> 0 | E8: =IF($A8="","",SUMIFS(Posteringer!$D$5:$D$1004,Posteringer!$C$5:$C$1004,$A8,Posteringer!$F$5:$F$1004,4)) -> 0 | F8: =IF($A8="","",SUMIFS(Posteringer!$D$5:$D$1004,Posteringer!$C$5:$C$1004,$A8,Posteringer!$F$5:$F$1004,5)) -> 0 | G8: =IF($A8="","",SUMIFS(Posteringer!$D$5:$D$1004,Posteringer!$C$5:$C$1004,$A8,Posteringer!$F$5:$F$1004,6)) -> 0 | H8: =IF($A8="","",SUMIFS(Posteringer!$D$5:$D$1004,Posteringer!$C$5:$C$1004,$A8,Posteringer!$F$5:$F$1004,7)) -> 0 | I8: =IF($A8="","",SUMIFS(Posteringer!$D$5:$D$1004,Posteringer!$C$5:$C$1004,$A8,Posteringer!$F$5:$F$1004,8)) -> 0 | J8: =IF($A8="","",SUMIFS(Posteringer!$D$5:$D$1004,Posteringer!$C$5:$C$1004,$A8,Posteringer!$F$5:$F$1004,9)) -> 0 | K8: =IF($A8="","",SUMIFS(Posteringer!$D$5:$D$1004,Posteringer!$C$5:$C$1004,$A8,Posteringer!$F$5:$F$1004,10)) -> 0 | L8: =IF($A8="","",SUMIFS(Posteringer!$D$5:$D$1004,Posteringer!$C$5:$C$1004,$A8,Posteringer!$F$5:$F$1004,11)) -> 0 | M8: =IF($A8="","",SUMIFS(Posteringer!$D$5:$D$1004,Posteringer!$C$5:$C$1004,$A8,Posteringer!$F$5:$F$1004,12)) -> 0 | N8: =IF($A8="","",SUM(B8:M8)) -> 0 | O8: =IF($A8="","",Opsætning!B8*12) -> 0 | P8: =IF($A8="","",N8-O8) -> 0
A9: =IF(Opsætning!A9="","",Opsætning!A9) | B9: =IF($A9="","",SUMIFS(Posteringer!$D$5:$D$1004,Posteringer!$C$5:$C$1004,$A9,Posteringer!$F$5:$F$1004,1)) | C9: =IF($A9="","",SUMIFS(Posteringer!$D$5:$D$1004,Posteringer!$C$5:$C$1004,$A9,Posteringer!$F$5:$F$1004,2)) | D9: =IF($A9="","",SUMIFS(Posteringer!$D$5:$D$1004,Posteringer!$C$5:$C$1004,$A9,Posteringer!$F$5:$F$1004,3)) | E9: =IF($A9="","",SUMIFS(Posteringer!$D$5:$D$1004,Posteringer!$C$5:$C$1004,$A9,Posteringer!$F$5:$F$1004,4)) | F9: =IF($A9="","",SUMIFS(Posteringer!$D$5:$D$1004,Posteringer!$C$5:$C$1004,$A9,Posteringer!$F$5:$F$1004,5)) | G9: =IF($A9="","",SUMIFS(Posteringer!$D$5:$D$1004,Posteringer!$C$5:$C$1004,$A9,Posteringer!$F$5:$F$1004,6)) | H9: =IF($A9="","",SUMIFS(Posteringer!$D$5:$D$1004,Posteringer!$C$5:$C$1004,$A9,Posteringer!$F$5:$F$1004,7)) | I9: =IF($A9="","",SUMIFS(Posteringer!$D$5:$D$1004,Posteringer!$C$5:$C$1004,$A9,Posteringer!$F$5:$F$1004,8)) | J9: =IF($A9="","",SUMIFS(Posteringer!$D$5:$D$1004,Posteringer!$C$5:$C$1004,$A9,Posteringer!$F$5:$F$1004,9)) | K9: =IF($A9="","",SUMIFS(Posteringer!$D$5:$D$1004,Posteringer!$C$5:$C$1004,$A9,Posteringer!$F$5:$F$1004,10)) | L9: =IF($A9="","",SUMIFS(Posteringer!$D$5:$D$1004,Posteringer!$C$5:$C$1004,$A9,Posteringer!$F$5:$F$1004,11)) | M9: =IF($A9="","",SUMIFS(Posteringer!$D$5:$D$1004,Posteringer!$C$5:$C$1004,$A9,Posteringer!$F$5:$F$1004,12)) | N9: =IF($A9="","",SUM(B9:M9)) | O9: =IF($A9="","",Opsætning!B9*12) | P9: =IF($A9="","",N9-O9)
A10: =IF(Opsætning!A10="","",Opsætning!A10) | B10: =IF($A10="","",SUMIFS(Posteringer!$D$5:$D$1004,Posteringer!$C$5:$C$1004,$A10,Posteringer!$F$5:$F$1004,1)) | C10: =IF($A10="","",SUMIFS(Posteringer!$D$5:$D$1004,Posteringer!$C$5:$C$1004,$A10,Posteringer!$F$5:$F$1004,2)) | D10: =IF($A10="","",SUMIFS(Posteringer!$D$5:$D$1004,Posteringer!$C$5:$C$1004,$A10,Posteringer!$F$5:$F$1004,3)) | E10: =IF($A10="","",SUMIFS(Posteringer!$D$5:$D$1004,Posteringer!$C$5:$C$1004,$A10,Posteringer!$F$5:$F$1004,4)) | F10: =IF($A10="","",SUMIFS(Posteringer!$D$5:$D$1004,Posteringer!$C$5:$C$1004,$A10,Posteringer!$F$5:$F$1004,5)) | G10: =IF($A10="","",SUMIFS(Posteringer!$D$5:$D$1004,Posteringer!$C$5:$C$1004,$A10,Posteringer!$F$5:$F$1004,6)) | H10: =IF($A10="","",SUMIFS(Posteringer!$D$5:$D$1004,Posteringer!$C$5:$C$1004,$A10,Posteringer!$F$5:$F$1004,7)) | I10: =IF($A10="","",SUMIFS(Posteringer!$D$5:$D$1004,Posteringer!$C$5:$C$1004,$A10,Posteringer!$F$5:$F$1004,8)) | J10: =IF($A10="","",SUMIFS(Posteringer!$D$5:$D$1004,Posteringer!$C$5:$C$1004,$A10,Posteringer!$F$5:$F$1004,9)) | K10: =IF($A10="","",SUMIFS(Posteringer!$D$5:$D$1004,Posteringer!$C$5:$C$1004,$A10,Posteringer!$F$5:$F$1004,10)) | L10: =IF($A10="","",SUMIFS(Posteringer!$D$5:$D$1004,Posteringer!$C$5:$C$1004,$A10,Posteringer!$F$5:$F$1004,11)) | M10: =IF($A10="","",SUMIFS(Posteringer!$D$5:$D$1004,Posteringer!$C$5:$C$1004,$A10,Posteringer!$F$5:$F$1004,12)) | N10: =IF($A10="","",SUM(B10:M10)) | O10: =IF($A10="","",Opsætning!B10*12) | P10: =IF($A10="","",N10-O10)
A11: =IF(Opsætning!A11="","",Opsætning!A11) | B11: =IF($A11="","",SUMIFS(Posteringer!$D$5:$D$1004,Posteringer!$C$5:$C$1004,$A11,Posteringer!$F$5:$F$1004,1)) | C11: =IF($A11="","",SUMIFS(Posteringer!$D$5:$D$1004,Posteringer!$C$5:$C$1004,$A11,Posteringer!$F$5:$F$1004,2)) | D11: =IF($A11="","",SUMIFS(Posteringer!$D$5:$D$1004,Posteringer!$C$5:$C$1004,$A11,Posteringer!$F$5:$F$1004,3)) | E11: =IF($A11="","",SUMIFS(Posteringer!$D$5:$D$1004,Posteringer!$C$5:$C$1004,$A11,Posteringer!$F$5:$F$1004,4)) | F11: =IF($A11="","",SUMIFS(Posteringer!$D$5:$D$1004,Posteringer!$C$5:$C$1004,$A11,Posteringer!$F$5:$F$1004,5)) | G11: =IF($A11="","",SUMIFS(Posteringer!$D$5:$D$1004,Posteringer!$C$5:$C$1004,$A11,Posteringer!$F$5:$F$1004,6)) | H11: =IF($A11="","",SUMIFS(Posteringer!$D$5:$D$1004,Posteringer!$C$5:$C$1004,$A11,Posteringer!$F$5:$F$1004,7)) | I11: =IF($A11="","",SUMIFS(Posteringer!$D$5:$D$1004,Posteringer!$C$5:$C$1004,$A11,Posteringer!$F$5:$F$1004,8)) | J11: =IF($A11="","",SUMIFS(Posteringer!$D$5:$D$1004,Posteringer!$C$5:$C$1004,$A11,Posteringer!$F$5:$F$1004,9)) | K11: =IF($A11="","",SUMIFS(Posteringer!$D$5:$D$1004,Posteringer!$C$5:$C$1004,$A11,Posteringer!$F$5:$F$1004,10)) | L11: =IF($A11="","",SUMIFS(Posteringer!$D$5:$D$1004,Posteringer!$C$5:$C$1004,$A11,Posteringer!$F$5:$F$1004,11)) | M11: =IF($A11="","",SUMIFS(Posteringer!$D$5:$D$1004,Posteringer!$C$5:$C$1004,$A11,Posteringer!$F$5:$F$1004,12)) | N11: =IF($A11="","",SUM(B11:M11)) | O11: =IF($A11="","",Opsætning!B11*12) | P11: =IF($A11="","",N11-O11)
A12: =IF(Opsætning!A12="","",Opsætning!A12) | B12: =IF($A12="","",SUMIFS(Posteringer!$D$5:$D$1004,Posteringer!$C$5:$C$1004,$A12,Posteringer!$F$5:$F$1004,1)) | C12: =IF($A12="","",SUMIFS(Posteringer!$D$5:$D$1004,Posteringer!$C$5:$C$1004,$A12,Posteringer!$F$5:$F$1004,2)) | D12: =IF($A12="","",SUMIFS(Posteringer!$D$5:$D$1004,Posteringer!$C$5:$C$1004,$A12,Posteringer!$F$5:$F$1004,3)) | E12: =IF($A12="","",SUMIFS(Posteringer!$D$5:$D$1004,Posteringer!$C$5:$C$1004,$A12,Posteringer!$F$5:$F$1004,4)) | F12: =IF($A12="","",SUMIFS(Posteringer!$D$5:$D$1004,Posteringer!$C$5:$C$1004,$A12,Posteringer!$F$5:$F$1004,5)) | G12: =IF($A12="","",SUMIFS(Posteringer!$D$5:$D$1004,Posteringer!$C$5:$C$1004,$A12,Posteringer!$F$5:$F$1004,6)) | H12: =IF($A12="","",SUMIFS(Posteringer!$D$5:$D$1004,Posteringer!$C$5:$C$1004,$A12,Posteringer!$F$5:$F$1004,7)) | I12: =IF($A12="","",SUMIFS(Posteringer!$D$5:$D$1004,Posteringer!$C$5:$C$1004,$A12,Posteringer!$F$5:$F$1004,8)) | J12: =IF($A12="","",SUMIFS(Posteringer!$D$5:$D$1004,Posteringer!$C$5:$C$1004,$A12,Posteringer!$F$5:$F$1004,9)) | K12: =IF($A12="","",SUMIFS(Posteringer!$D$5:$D$1004,Posteringer!$C$5:$C$1004,$A12,Posteringer!$F$5:$F$1004,10)) | L12: =IF($A12="","",SUMIFS(Posteringer!$D$5:$D$1004,Posteringer!$C$5:$C$1004,$A12,Posteringer!$F$5:$F$1004,11)) | M12: =IF($A12="","",SUMIFS(Posteringer!$D$5:$D$1004,Posteringer!$C$5:$C$1004,$A12,Posteringer!$F$5:$F$1004,12)) | N12: =IF($A12="","",SUM(B12:M12)) | O12: =IF($A12="","",Opsætning!B12*12) | P12: =IF($A12="","",N12-O12)
A13: Indtægter i alt | B13: =SUM(B5:B12) -> 31500 | C13: =SUM(C5:C12) -> 28000 | D13: =SUM(D5:D12) -> 0 | E13: =SUM(E5:E12) -> 0 | F13: =SUM(F5:F12) -> 0 | G13: =SUM(G5:G12) -> 0 | H13: =SUM(H5:H12) -> 0 | I13: =SUM(I5:I12) -> 0 | ... P13: =SUM(P5:P12) -> -312500
A15: UDGIFTER
A16: =IF(Opsætning!A16="","",Opsætning!A16) -> Husleje / boliglån | B16: =IF($A16="","",SUMIFS(Posteringer!$D$5:$D$1004,Posteringer!$C$5:$C$1004,$A16,Posteringer!$F$5:$F$1004,1)) -> 9500 | C16: =IF($A16="","",SUMIFS(Posteringer!$D$5:$D$1004,Posteringer!$C$5:$C$1004,$A16,Posteringer!$F$5:$F$1004,2)) -> 9500 | D16: =IF($A16="","",SUMIFS(Posteringer!$D$5:$D$1004,Posteringer!$C$5:$C$1004,$A16,Posteringer!$F$5:$F$1004,3)) -> 0 | E16: =IF($A16="","",SUMIFS(Posteringer!$D$5:$D$1004,Posteringer!$C$5:$C$1004,$A16,Posteringer!$F$5:$F$1004,4)) -> 0 | F16: =IF($A16="","",SUMIFS(Posteringer!$D$5:$D$1004,Posteringer!$C$5:$C$1004,$A16,Posteringer!$F$5:$F$1004,5)) -> 0 | G16: =IF($A16="","",SUMIFS(Posteringer!$D$5:$D$1004,Posteringer!$C$5:$C$1004,$A16,Posteringer!$F$5:$F$1004,6)) -> 0 | H16: =IF($A16="","",SUMIFS(Posteringer!$D$5:$D$1004,Posteringer!$C$5:$C$1004,$A16,Posteringer!$F$5:$F$1004,7)) -> 0 | I16: =IF($A16="","",SUMIFS(Posteringer!$D$5:$D$1004,Posteringer!$C$5:$C$1004,$A16,Posteringer!$F$5:$F$1004,8)) -> 0 | J16: =IF($A16="","",SUMIFS(Posteringer!$D$5:$D$1004,Posteringer!$C$5:$C$1004,$A16,Posteringer!$F$5:$F$1004,9)) -> 0 | K16: =IF($A16="","",SUMIFS(Posteringer!$D$5:$D$1004,Posteringer!$C$5:$C$1004,$A16,Posteringer!$F$5:$F$1004,10)) -> 0 | L16: =IF($A16="","",SUMIFS(Posteringer!$D$5:$D$1004,Posteringer!$C$5:$C$1004,$A16,Posteringer!$F$5:$F$1004,11)) -> 0 | M16: =IF($A16="","",SUMIFS(Posteringer!$D$5:$D$1004,Posteringer!$C$5:$C$1004,$A16,Posteringer!$F$5:$F$1004,12)) -> 0 | N16: =IF($A16="","",SUM(B16:M16)) -> 19000 | O16: =IF($A16="","",Opsætning!B16*12) -> 114000 | P16: =IF($A16="","",O16-N16) -> 95000
A17: =IF(Opsætning!A17="","",Opsætning!A17) -> El, vand & varme | B17: =IF($A17="","",SUMIFS(Posteringer!$D$5:$D$1004,Posteringer!$C$5:$C$1004,$A17,Posteringer!$F$5:$F$1004,1)) -> 780 | C17: =IF($A17="","",SUMIFS(Posteringer!$D$5:$D$1004,Posteringer!$C$5:$C$1004,$A17,Posteringer!$F$5:$F$1004,2)) -> 0 | D17: =IF($A17="","",SUMIFS(Posteringer!$D$5:$D$1004,Posteringer!$C$5:$C$1004,$A17,Posteringer!$F$5:$F$1004,3)) -> 0 | E17: =IF($A17="","",SUMIFS(Posteringer!$D$5:$D$1004,Posteringer!$C$5:$C$1004,$A17,Posteringer!$F$5:$F$1004,4)) -> 0 | F17: =IF($A17="","",SUMIFS(Posteringer!$D$5:$D$1004,Posteringer!$C$5:$C$1004,$A17,Posteringer!$F$5:$F$1004,5)) -> 0 | G17: =IF($A17="","",SUMIFS(Posteringer!$D$5:$D$1004,Posteringer!$C$5:$C$1004,$A17,Posteringer!$F$5:$F$1004,6)) -> 0 | H17: =IF($A17="","",SUMIFS(Posteringer!$D$5:$D$1004,Posteringer!$C$5:$C$1004,$A17,Posteringer!$F$5:$F$1004,7)) -> 0 | I17: =IF($A17="","",SUMIFS(Posteringer!$D$5:$D$1004,Posteringer!$C$5:$C$1004,$A17,Posteringer!$F$5:$F$1004,8)) -> 0 | J17: =IF($A17="","",SUMIFS(Posteringer!$D$5:$D$1004,Posteringer!$C$5:$C$1004,$A17,Posteringer!$F$5:$F$1004,9)) -> 0 | K17: =IF($A17="","",SUMIFS(Posteringer!$D$5:$D$1004,Posteringer!$C$5:$C$1004,$A17,Posteringer!$F$5:$F$1004,10)) -> 0 | L17: =IF($A17="","",SUMIFS(Posteringer!$D$5:$D$1004,Posteringer!$C$5:$C$1004,$A17,Posteringer!$F$5:$F$1004,11)) -> 0 | M17: =IF($A17="","",SUMIFS(Posteringer!$D$5:$D$1004,Posteringer!$C$5:$C$1004,$A17,Posteringer!$F$5:$F$1004,12)) -> 0 | N17: =IF($A17="","",SUM(B17:M17)) -> 780 | O17: =IF($A17="","",Opsætning!B17*12) -> 14400 | P17: =IF($A17="","",O17-N17) -> 13620
A18: =IF(Opsætning!A18="","",Opsætning!A18) -> Dagligvarer | B18: =IF($A18="","",SUMIFS(Posteringer!$D$5:$D$1004,Posteringer!$C$5:$C$1004,$A18,Posteringer!$F$5:$F$1004,1)) -> 2251.65 | C18: =IF($A18="","",SUMIFS(Posteringer!$D$5:$D$1004,Posteringer!$C$5:$C$1004,$A18,Posteringer!$F$5:$F$1004,2)) -> 1592 | D18: =IF($A18="","",SUMIFS(Posteringer!$D$5:$D$1004,Posteringer!$C$5:$C$1004,$A18,Posteringer!$F$5:$F$1004,3)) -> 0 | E18: =IF($A18="","",SUMIFS(Posteringer!$D$5:$D$1004,Posteringer!$C$5:$C$1004,$A18,Posteringer!$F$5:$F$1004,4)) -> 0 | F18: =IF($A18="","",SUMIFS(Posteringer!$D$5:$D$1004,Posteringer!$C$5:$C$1004,$A18,Posteringer!$F$5:$F$1004,5)) -> 0 | G18: =IF($A18="","",SUMIFS(Posteringer!$D$5:$D$1004,Posteringer!$C$5:$C$1004,$A18,Posteringer!$F$5:$F$1004,6)) -> 0 | H18: =IF($A18="","",SUMIFS(Posteringer!$D$5:$D$1004,Posteringer!$C$5:$C$1004,$A18,Posteringer!$F$5:$F$1004,7)) -> 0 | I18: =IF($A18="","",SUMIFS(Posteringer!$D$5:$D$1004,Posteringer!$C$5:$C$1004,$A18,Posteringer!$F$5:$F$1004,8)) -> 0 | J18: =IF($A18="","",SUMIFS(Posteringer!$D$5:$D$1004,Posteringer!$C$5:$C$1004,$A18,Posteringer!$F$5:$F$1004,9)) -> 0 | K18: =IF($A18="","",SUMIFS(Posteringer!$D$5:$D$1004,Posteringer!$C$5:$C$1004,$A18,Posteringer!$F$5:$F$1004,10)) -> 0 | L18: =IF($A18="","",SUMIFS(Posteringer!$D$5:$D$1004,Posteringer!$C$5:$C$1004,$A18,Posteringer!$F$5:$F$1004,11)) -> 0 | M18: =IF($A18="","",SUMIFS(Posteringer!$D$5:$D$1004,Posteringer!$C$5:$C$1004,$A18,Posteringer!$F$5:$F$1004,12)) -> 0 | N18: =IF($A18="","",SUM(B18:M18)) -> 3843.65 | O18: =IF($A18="","",Opsætning!B18*12) -> 42000 | P18: =IF($A18="","",O18-N18) -> 38156.35
A19: =IF(Opsætning!A19="","",Opsætning!A19) -> Transport | B19: =IF($A19="","",SUMIFS(Posteringer!$D$5:$D$1004,Posteringer!$C$5:$C$1004,$A19,Posteringer!$F$5:$F$1004,1)) -> 450 | C19: =IF($A19="","",SUMIFS(Posteringer!$D$5:$D$1004,Posteringer!$C$5:$C$1004,$A19,Posteringer!$F$5:$F$1004,2)) -> 0 | D19: =IF($A19="","",SUMIFS(Posteringer!$D$5:$D$1004,Posteringer!$C$5:$C$1004,$A19,Posteringer!$F$5:$F$1004,3)) -> 0 | E19: =IF($A19="","",SUMIFS(Posteringer!$D$5:$D$1004,Posteringer!$C$5:$C$1004,$A19,Posteringer!$F$5:$F$1004,4)) -> 0 | F19: =IF($A19="","",SUMIFS(Posteringer!$D$5:$D$1004,Posteringer!$C$5:$C$1004,$A19,Posteringer!$F$5:$F$1004,5)) -> 0 | G19: =IF($A19="","",SUMIFS(Posteringer!$D$5:$D$1004,Posteringer!$C$5:$C$1004,$A19,Posteringer!$F$5:$F$1004,6)) -> 0 | H19: =IF($A19="","",SUMIFS(Posteringer!$D$5:$D$1004,Posteringer!$C$5:$C$1004,$A19,Posteringer!$F$5:$F$1004,7)) -> 0 | I19: =IF($A19="","",SUMIFS(Posteringer!$D$5:$D$1004,Posteringer!$C$5:$C$1004,$A19,Posteringer!$F$5:$F$1004,8)) -> 0 | J19: =IF($A19="","",SUMIFS(Posteringer!$D$5:$D$1004,Posteringer!$C$5:$C$1004,$A19,Posteringer!$F$5:$F$1004,9)) -> 0 | K19: =IF($A19="","",SUMIFS(Posteringer!$D$5:$D$1004,Posteringer!$C$5:$C$1004,$A19,Posteringer!$F$5:$F$1004,10)) -> 0 | L19: =IF($A19="","",SUMIFS(Posteringer!$D$5:$D$1004,Posteringer!$C$5:$C$1004,$A19,Posteringer!$F$5:$F$1004,11)) -> 0 | M19: =IF($A19="","",SUMIFS(Posteringer!$D$5:$D$1004,Posteringer!$C$5:$C$1004,$A19,Posteringer!$F$5:$F$1004,12)) -> 0 | N19: =IF($A19="","",SUM(B19:M19)) -> 450 | O19: =IF($A19="","",Opsætning!B19*12) -> 16800 | P19: =IF($A19="","",O19-N19) -> 16350
A20: =IF(Opsætning!A20="","",Opsætning!A20) -> Forsikringer | B20: =IF($A20="","",SUMIFS(Posteringer!$D$5:$D$1004,Posteringer!$C$5:$C$1004,$A20,Posteringer!$F$5:$F$1004,1)) -> 0 | C20: =IF($A20="","",SUMIFS(Posteringer!$D$5:$D$1004,Posteringer!$C$5:$C$1004,$A20,Posteringer!$F$5:$F$1004,2)) -> 875 | D20: =IF($A20="","",SUMIFS(Posteringer!$D$5:$D$1004,Posteringer!$C$5:$C$1004,$A20,Posteringer!$F$5:$F$1004,3)) -> 0 | E20: =IF($A20="","",SUMIFS(Posteringer!$D$5:$D$1004,Posteringer!$C$5:$C$1004,$A20,Posteringer!$F$5:$F$1004,4)) -> 0 | F20: =IF($A20="","",SUMIFS(Posteringer!$D$5:$D$1004,Posteringer!$C$5:$C$1004,$A20,Posteringer!$F$5:$F$1004,5)) -> 0 | G20: =IF($A20="","",SUMIFS(Posteringer!$D$5:$D$1004,Posteringer!$C$5:$C$1004,$A20,Posteringer!$F$5:$F$1004,6)) -> 0 | H20: =IF($A20="","",SUMIFS(Posteringer!$D$5:$D$1004,Posteringer!$C$5:$C$1004,$A20,Posteringer!$F$5:$F$1004,7)) -> 0 | I20: =IF($A20="","",SUMIFS(Posteringer!$D$5:$D$1004,Posteringer!$C$5:$C$1004,$A20,Posteringer!$F$5:$F$1004,8)) -> 0 | J20: =IF($A20="","",SUMIFS(Posteringer!$D$5:$D$1004,Posteringer!$C$5:$C$1004,$A20,Posteringer!$F$5:$F$1004,9)) -> 0 | K20: =IF($A20="","",SUMIFS(Posteringer!$D$5:$D$1004,Posteringer!$C$5:$C$1004,$A20,Posteringer!$F$5:$F$1004,10)) -> 0 | L20: =IF($A20="","",SUMIFS(Posteringer!$D$5:$D$1004,Posteringer!$C$5:$C$1004,$A20,Posteringer!$F$5:$F$1004,11)) -> 0 | M20: =IF($A20="","",SUMIFS(Posteringer!$D$5:$D$1004,Posteringer!$C$5:$C$1004,$A20,Posteringer!$F$5:$F$1004,12)) -> 0 | N20: =IF($A20="","",SUM(B20:M20)) -> 875 | O20: =IF($A20="","",Opsætning!B20*12) -> 10800 | P20: =IF($A20="","",O20-N20) -> 9925
A21: =IF(Opsætning!A21="","",Opsætning!A21) -> Mobil & internet | B21: =IF($A21="","",SUMIFS(Posteringer!$D$5:$D$1004,Posteringer!$C$5:$C$1004,$A21,Posteringer!$F$5:$F$1004,1)) -> 398 | C21: =IF($A21="","",SUMIFS(Posteringer!$D$5:$D$1004,Posteringer!$C$5:$C$1004,$A21,Posteringer!$F$5:$F$1004,2)) -> 0 | D21: =IF($A21="","",SUMIFS(Posteringer!$D$5:$D$1004,Posteringer!$C$5:$C$1004,$A21,Posteringer!$F$5:$F$1004,3)) -> 0 | E21: =IF($A21="","",SUMIFS(Posteringer!$D$5:$D$1004,Posteringer!$C$5:$C$1004,$A21,Posteringer!$F$5:$F$1004,4)) -> 0 | F21: =IF($A21="","",SUMIFS(Posteringer!$D$5:$D$1004,Posteringer!$C$5:$C$1004,$A21,Posteringer!$F$5:$F$1004,5)) -> 0 | G21: =IF($A21="","",SUMIFS(Posteringer!$D$5:$D$1004,Posteringer!$C$5:$C$1004,$A21,Posteringer!$F$5:$F$1004,6)) -> 0 | H21: =IF($A21="","",SUMIFS(Posteringer!$D$5:$D$1004,Posteringer!$C$5:$C$1004,$A21,Posteringer!$F$5:$F$1004,7)) -> 0 | I21: =IF($A21="","",SUMIFS(Posteringer!$D$5:$D$1004,Posteringer!$C$5:$C$1004,$A21,Posteringer!$F$5:$F$1004,8)) -> 0 | J21: =IF($A21="","",SUMIFS(Posteringer!$D$5:$D$1004,Posteringer!$C$5:$C$1004,$A21,Posteringer!$F$5:$F$1004,9)) -> 0 | K21: =IF($A21="","",SUMIFS(Posteringer!$D$5:$D$1004,Posteringer!$C$5:$C$1004,$A21,Posteringer!$F$5:$F$1004,10)) -> 0 | L21: =IF($A21="","",SUMIFS(Posteringer!$D$5:$D$1004,Posteringer!$C$5:$C$1004,$A21,Posteringer!$F$5:$F$1004,11)) -> 0 | M21: =IF($A21="","",SUMIFS(Posteringer!$D$5:$D$1004,Posteringer!$C$5:$C$1004,$A21,Posteringer!$F$5:$F$1004,12)) -> 0 | N21: =IF($A21="","",SUM(B21:M21)) -> 398 | O21: =IF($A21="","",Opsætning!B21*12) -> 5400 | P21: =IF($A21="","",O21-N21) -> 5002
A22: =IF(Opsætning!A22="","",Opsætning!A22) -> Abonnementer | B22: =IF($A22="","",SUMIFS(Posteringer!$D$5:$D$1004,Posteringer!$C$5:$C$1004,$A22,Posteringer!$F$5:$F$1004,1)) -> 229 | C22: =IF($A22="","",SUMIFS(Posteringer!$D$5:$D$1004,Posteringer!$C$5:$C$1004,$A22,Posteringer!$F$5:$F$1004,2)) -> 0 | D22: =IF($A22="","",SUMIFS(Posteringer!$D$5:$D$1004,Posteringer!$C$5:$C$1004,$A22,Posteringer!$F$5:$F$1004,3)) -> 0 | E22: =IF($A22="","",SUMIFS(Posteringer!$D$5:$D$1004,Posteringer!$C$5:$C$1004,$A22,Posteringer!$F$5:$F$1004,4)) -> 0 | F22: =IF($A22="","",SUMIFS(Posteringer!$D$5:$D$1004,Posteringer!$C$5:$C$1004,$A22,Posteringer!$F$5:$F$1004,5)) -> 0 | G22: =IF($A22="","",SUMIFS(Posteringer!$D$5:$D$1004,Posteringer!$C$5:$C$1004,$A22,Posteringer!$F$5:$F$1004,6)) -> 0 | H22: =IF($A22="","",SUMIFS(Posteringer!$D$5:$D$1004,Posteringer!$C$5:$C$1004,$A22,Posteringer!$F$5:$F$1004,7)) -> 0 | I22: =IF($A22="","",SUMIFS(Posteringer!$D$5:$D$1004,Posteringer!$C$5:$C$1004,$A22,Posteringer!$F$5:$F$1004,8)) -> 0 | J22: =IF($A22="","",SUMIFS(Posteringer!$D$5:$D$1004,Posteringer!$C$5:$C$1004,$A22,Posteringer!$F$5:$F$1004,9)) -> 0 | K22: =IF($A22="","",SUMIFS(Posteringer!$D$5:$D$1004,Posteringer!$C$5:$C$1004,$A22,Posteringer!$F$5:$F$1004,10)) -> 0 | L22: =IF($A22="","",SUMIFS(Posteringer!$D$5:$D$1004,Posteringer!$C$5:$C$1004,$A22,Posteringer!$F$5:$F$1004,11)) -> 0 | M22: =IF($A22="","",SUMIFS(Posteringer!$D$5:$D$1004,Posteringer!$C$5:$C$1004,$A22,Posteringer!$F$5:$F$1004,12)) -> 0 | N22: =IF($A22="","",SUM(B22:M22)) -> 229 | O22: =IF($A22="","",Opsætning!B22*12) -> 3600 | P22: =IF($A22="","",O22-N22) -> 3371
A23: =IF(Opsætning!A23="","",Opsætning!A23) -> Restaurant & takeaway | B23: =IF($A23="","",SUMIFS(Posteringer!$D$5:$D$1004,Posteringer!$C$5:$C$1004,$A23,Posteringer!$F$5:$F$1004,1)) -> 385 | C23: =IF($A23="","",SUMIFS(Posteringer!$D$5:$D$1004,Posteringer!$C$5:$C$1004,$A23,Posteringer!$F$5:$F$1004,2)) -> 340 | D23: =IF($A23="","",SUMIFS(Posteringer!$D$5:$D$1004,Posteringer!$C$5:$C$1004,$A23,Posteringer!$F$5:$F$1004,3)) -> 0 | E23: =IF($A23="","",SUMIFS(Posteringer!$D$5:$D$1004,Posteringer!$C$5:$C$1004,$A23,Posteringer!$F$5:$F$1004,4)) -> 0 | F23: =IF($A23="","",SUMIFS(Posteringer!$D$5:$D$1004,Posteringer!$C$5:$C$1004,$A23,Posteringer!$F$5:$F$1004,5)) -> 0 | G23: =IF($A23="","",SUMIFS(Posteringer!$D$5:$D$1004,Posteringer!$C$5:$C$1004,$A23,Posteringer!$F$5:$F$1004,6)) -> 0 | H23: =IF($A23="","",SUMIFS(Posteringer!$D$5:$D$1004,Posteringer!$C$5:$C$1004,$A23,Posteringer!$F$5:$F$1004,7)) -> 0 | I23: =IF($A23="","",SUMIFS(Posteringer!$D$5:$D$1004,Posteringer!$C$5:$C$1004,$A23,Posteringer!$F$5:$F$1004,8)) -> 0 | J23: =IF($A23="","",SUMIFS(Posteringer!$D$5:$D$1004,Posteringer!$C$5:$C$1004,$A23,Posteringer!$F$5:$F$1004,9)) -> 0 | K23: =IF($A23="","",SUMIFS(Posteringer!$D$5:$D$1004,Posteringer!$C$5:$C$1004,$A23,Posteringer!$F$5:$F$1004,10)) -> 0 | L23: =IF($A23="","",SUMIFS(Posteringer!$D$5:$D$1004,Posteringer!$C$5:$C$1004,$A23,Posteringer!$F$5:$F$1004,11)) -> 0 | M23: =IF($A23="","",SUMIFS(Posteringer!$D$5:$D$1004,Posteringer!$C$5:$C$1004,$A23,Posteringer!$F$5:$F$1004,12)) -> 0 | N23: =IF($A23="","",SUM(B23:M23)) -> 725 | O23: =IF($A23="","",Opsætning!B23*12) -> 12000 | P23: =IF($A23="","",O23-N23) -> 11275
A24: =IF(Opsætning!A24="","",Opsætning!A24) -> Tøj & shopping | B24: =IF($A24="","",SUMIFS(Posteringer!$D$5:$D$1004,Posteringer!$C$5:$C$1004,$A24,Posteringer!$F$5:$F$1004,1)) -> 1199 | C24: =IF($A24="","",SUMIFS(Posteringer!$D$5:$D$1004,Posteringer!$C$5:$C$1004,$A24,Posteringer!$F$5:$F$1004,2)) -> 0 | D24: =IF($A24="","",SUMIFS(Posteringer!$D$5:$D$1004,Posteringer!$C$5:$C$1004,$A24,Posteringer!$F$5:$F$1004,3)) -> 0 | E24: =IF($A24="","",SUMIFS(Posteringer!$D$5:$D$1004,Posteringer!$C$5:$C$1004,$A24,Posteringer!$F$5:$F$1004,4)) -> 0 | F24: =IF($A24="","",SUMIFS(Posteringer!$D$5:$D$1004,Posteringer!$C$5:$C$1004,$A24,Posteringer!$F$5:$F$1004,5)) -> 0 | G24: =IF($A24="","",SUMIFS(Posteringer!$D$5:$D$1004,Posteringer!$C$5:$C$1004,$A24,Posteringer!$F$5:$F$1004,6)) -> 0 | H24: =IF($A24="","",SUMIFS(Posteringer!$D$5:$D$1004,Posteringer!$C$5:$C$1004,$A24,Posteringer!$F$5:$F$1004,7)) -> 0 | I24: =IF($A24="","",SUMIFS(Posteringer!$D$5:$D$1004,Posteringer!$C$5:$C$1004,$A24,Posteringer!$F$5:$F$1004,8)) -> 0 | J24: =IF($A24="","",SUMIFS(Posteringer!$D$5:$D$1004,Posteringer!$C$5:$C$1004,$A24,Posteringer!$F$5:$F$1004,9)) -> 0 | K24: =IF($A24="","",SUMIFS(Posteringer!$D$5:$D$1004,Posteringer!$C$5:$C$1004,$A24,Posteringer!$F$5:$F$1004,10)) -> 0 | L24: =IF($A24="","",SUMIFS(Posteringer!$D$5:$D$1004,Posteringer!$C$5:$C$1004,$A24,Posteringer!$F$5:$F$1004,11)) -> 0 | M24: =IF($A24="","",SUMIFS(Posteringer!$D$5:$D$1004,Posteringer!$C$5:$C$1004,$A24,Posteringer!$F$5:$F$1004,12)) -> 0 | N24: =IF($A24="","",SUM(B24:M24)) -> 1199 | O24: =IF($A24="","",Opsætning!B24*12) -> 9600 | P24: =IF($A24="","",O24-N24) -> 8401
A25: =IF(Opsætning!A25="","",Opsætning!A25) -> Sundhed & fitness | B25: =IF($A25="","",SUMIFS(Posteringer!$D$5:$D$1004,Posteringer!$C$5:$C$1004,$A25,Posteringer!$F$5:$F$1004,1)) -> 299 | C25: =IF($A25="","",SUMIFS(Posteringer!$D$5:$D$1004,Posteringer!$C$5:$C$1004,$A25,Posteringer!$F$5:$F$1004,2)) -> 0 | D25: =IF($A25="","",SUMIFS(Posteringer!$D$5:$D$1004,Posteringer!$C$5:$C$1004,$A25,Posteringer!$F$5:$F$1004,3)) -> 0 | E25: =IF($A25="","",SUMIFS(Posteringer!$D$5:$D$1004,Posteringer!$C$5:$C$1004,$A25,Posteringer!$F$5:$F$1004,4)) -> 0 | F25: =IF($A25="","",SUMIFS(Posteringer!$D$5:$D$1004,Posteringer!$C$5:$C$1004,$A25,Posteringer!$F$5:$F$1004,5)) -> 0 | G25: =IF($A25="","",SUMIFS(Posteringer!$D$5:$D$1004,Posteringer!$C$5:$C$1004,$A25,Posteringer!$F$5:$F$1004,6)) -> 0 | H25: =IF($A25="","",SUMIFS(Posteringer!$D$5:$D$1004,Posteringer!$C$5:$C$1004,$A25,Posteringer!$F$5:$F$1004,7)) -> 0 | I25: =IF($A25="","",SUMIFS(Posteringer!$D$5:$D$1004,Posteringer!$C$5:$C$1004,$A25,Posteringer!$F$5:$F$1004,8)) -> 0 | J25: =IF($A25="","",SUMIFS(Posteringer!$D$5:$D$1004,Posteringer!$C$5:$C$1004,$A25,Posteringer!$F$5:$F$1004,9)) -> 0 | K25: =IF($A25="","",SUMIFS(Posteringer!$D$5:$D$1004,Posteringer!$C$5:$C$1004,$A25,Posteringer!$F$5:$F$1004,10)) -> 0 | L25: =IF($A25="","",SUMIFS(Posteringer!$D$5:$D$1004,Posteringer!$C$5:$C$1004,$A25,Posteringer!$F$5:$F$1004,11)) -> 0 | M25: =IF($A25="","",SUMIFS(Posteringer!$D$5:$D$1004,Posteringer!$C$5:$C$1004,$A25,Posteringer!$F$5:$F$1004,12)) -> 0 | N25: =IF($A25="","",SUM(B25:M25)) -> 299 | O25: =IF($A25="","",Opsætning!B25*12) -> 4800 | P25: =IF($A25="","",O25-N25) -> 4501
A26: =IF(Opsætning!A26="","",Opsætning!A26) -> Fritid & oplevelser | B26: =IF($A26="","",SUMIFS(Posteringer!$D$5:$D$1004,Posteringer!$C$5:$C$1004,$A26,Posteringer!$F$5:$F$1004,1)) -> 0 | C26: =IF($A26="","",SUMIFS(Posteringer!$D$5:$D$1004,Posteringer!$C$5:$C$1004,$A26,Posteringer!$F$5:$F$1004,2)) -> 260 | D26: =IF($A26="","",SUMIFS(Posteringer!$D$5:$D$1004,Posteringer!$C$5:$C$1004,$A26,Posteringer!$F$5:$F$1004,3)) -> 0 | E26: =IF($A26="","",SUMIFS(Posteringer!$D$5:$D$1004,Posteringer!$C$5:$C$1004,$A26,Posteringer!$F$5:$F$1004,4)) -> 0 | F26: =IF($A26="","",SUMIFS(Posteringer!$D$5:$D$1004,Posteringer!$C$5:$C$1004,$A26,Posteringer!$F$5:$F$1004,5)) -> 0 | G26: =IF($A26="","",SUMIFS(Posteringer!$D$5:$D$1004,Posteringer!$C$5:$C$1004,$A26,Posteringer!$F$5:$F$1004,6)) -> 0 | H26: =IF($A26="","",SUMIFS(Posteringer!$D$5:$D$1004,Posteringer!$C$5:$C$1004,$A26,Posteringer!$F$5:$F$1004,7)) -> 0 | I26: =IF($A26="","",SUMIFS(Posteringer!$D$5:$D$1004,Posteringer!$C$5:$C$1004,$A26,Posteringer!$F$5:$F$1004,8)) -> 0 | J26: =IF($A26="","",SUMIFS(Posteringer!$D$5:$D$1004,Posteringer!$C$5:$C$1004,$A26,Posteringer!$F$5:$F$1004,9)) -> 0 | K26: =IF($A26="","",SUMIFS(Posteringer!$D$5:$D$1004,Posteringer!$C$5:$C$1004,$A26,Posteringer!$F$5:$F$1004,10)) -> 0 | L26: =IF($A26="","",SUMIFS(Posteringer!$D$5:$D$1004,Posteringer!$C$5:$C$1004,$A26,Posteringer!$F$5:$F$1004,11)) -> 0 | M26: =IF($A26="","",SUMIFS(Posteringer!$D$5:$D$1004,Posteringer!$C$5:$C$1004,$A26,Posteringer!$F$5:$F$1004,12)) -> 0 | N26: =IF($A26="","",SUM(B26:M26)) -> 260 | O26: =IF($A26="","",Opsætning!B26*12) -> 7200 | P26: =IF($A26="","",O26-N26) -> 6940
A27: =IF(Opsætning!A27="","",Opsætning!A27) -> Gaver | B27: =IF($A27="","",SUMIFS(Posteringer!$D$5:$D$1004,Posteringer!$C$5:$C$1004,$A27,Posteringer!$F$5:$F$1004,1)) -> 0 | C27: =IF($A27="","",SUMIFS(Posteringer!$D$5:$D$1004,Posteringer!$C$5:$C$1004,$A27,Posteringer!$F$5:$F$1004,2)) -> 0 | D27: =IF($A27="","",SUMIFS(Posteringer!$D$5:$D$1004,Posteringer!$C$5:$C$1004,$A27,Posteringer!$F$5:$F$1004,3)) -> 0 | E27: =IF($A27="","",SUMIFS(Posteringer!$D$5:$D$1004,Posteringer!$C$5:$C$1004,$A27,Posteringer!$F$5:$F$1004,4)) -> 0 | F27: =IF($A27="","",SUMIFS(Posteringer!$D$5:$D$1004,Posteringer!$C$5:$C$1004,$A27,Posteringer!$F$5:$F$1004,5)) -> 0 | G27: =IF($A27="","",SUMIFS(Posteringer!$D$5:$D$1004,Posteringer!$C$5:$C$1004,$A27,Posteringer!$F$5:$F$1004,6)) -> 0 | H27: =IF($A27="","",SUMIFS(Posteringer!$D$5:$D$1004,Posteringer!$C$5:$C$1004,$A27,Posteringer!$F$5:$F$1004,7)) -> 0 | I27: =IF($A27="","",SUMIFS(Posteringer!$D$5:$D$1004,Posteringer!$C$5:$C$1004,$A27,Posteringer!$F$5:$F$1004,8)) -> 0 | J27: =IF($A27="","",SUMIFS(Posteringer!$D$5:$D$1004,Posteringer!$C$5:$C$1004,$A27,Posteringer!$F$5:$F$1004,9)) -> 0 | K27: =IF($A27="","",SUMIFS(Posteringer!$D$5:$D$1004,Posteringer!$C$5:$C$1004,$A27,Posteringer!$F$5:$F$1004,10)) -> 0 | L27: =IF($A27="","",SUMIFS(Posteringer!$D$5:$D$1004,Posteringer!$C$5:$C$1004,$A27,Posteringer!$F$5:$F$1004,11)) -> 0 | M27: =IF($A27="","",SUMIFS(Posteringer!$D$5:$D$1004,Posteringer!$C$5:$C$1004,$A27,Posteringer!$F$5:$F$1004,12)) -> 0 | N27: =IF($A27="","",SUM(B27:M27)) -> 0 | O27: =IF($A27="","",Opsætning!B27*12) -> 3600 | P27: =IF($A27="","",O27-N27) -> 3600
... A40: =IF(Opsætning!A40="","",Opsætning!A40) | B40: =IF($A40="","",SUMIFS(Posteringer!$D$5:$D$1004,Posteringer!$C$5:$C$1004,$A40,Posteringer!$F$5:$F$1004,1)) | C40: =IF($A40="","",SUMIFS(Posteringer!$D$5:$D$1004,Posteringer!$C$5:$C$1004,$A40,Posteringer!$F$5:$F$1004,2)) | D40: =IF($A40="","",SUMIFS(Posteringer!$D$5:$D$1004,Posteringer!$C$5:$C$1004,$A40,Posteringer!$F$5:$F$1004,3)) | E40: =IF($A40="","",SUMIFS(Posteringer!$D$5:$D$1004,Posteringer!$C$5:$C$1004,$A40,Posteringer!$F$5:$F$1004,4)) | F40: =IF($A40="","",SUMIFS(Posteringer!$D$5:$D$1004,Posteringer!$C$5:$C$1004,$A40,Posteringer!$F$5:$F$1004,5)) | G40: =IF($A40="","",SUMIFS(Posteringer!$D$5:$D$1004,Posteringer!$C$5:$C$1004,$A40,Posteringer!$F$5:$F$1004,6)) | H40: =IF($A40="","",SUMIFS(Posteringer!$D$5:$D$1004,Posteringer!$C$5:$C$1004,$A40,Posteringer!$F$5:$F$1004,7)) | I40: =IF($A40="","",SUMIFS(Posteringer!$D$5:$D$1004,Posteringer!$C$5:$C$1004,$A40,Posteringer!$F$5:$F$1004,8)) | J40: =IF($A40="","",SUMIFS(Posteringer!$D$5:$D$1004,Posteringer!$C$5:$C$1004,$A40,Posteringer!$F$5:$F$1004,9)) | K40: =IF($A40="","",SUMIFS(Posteringer!$D$5:$D$1004,Posteringer!$C$5:$C$1004,$A40,Posteringer!$F$5:$F$1004,10)) | L40: =IF($A40="","",SUMIFS(Posteringer!$D$5:$D$1004,Posteringer!$C$5:$C$1004,$A40,Posteringer!$F$5:$F$1004,11)) | M40: =IF($A40="","",SUMIFS(Posteringer!$D$5:$D$1004,Posteringer!$C$5:$C$1004,$A40,Posteringer!$F$5:$F$1004,12)) | N40: =IF($A40="","",SUM(B40:M40)) | O40: =IF($A40="","",Opsætning!B40*12) | P40: =IF($A40="","",O40-N40)
A41: Udgifter i alt | B41: =SUM(B16:B40) -> 19491.65 | C41: =SUM(C16:C40) -> 16567 | D41: =SUM(D16:D40) -> 0 | E41: =SUM(E16:E40) -> 0 | F41: =SUM(F16:F40) -> 0 | G41: =SUM(G16:G40) -> 0 | H41: =SUM(H16:H40) -> 0 | I41: =SUM(I16:I40) -> 0 | ... P41: =SUM(P16:P40) -> 290341.35
A43: Netto (indtægter − udgifter) | B43: =B13-B41 -> 12008.35 | C43: =C13-C41 -> 11433 | D43: =D13-D41 -> 0 | E43: =E13-E41 -> 0 | F43: =F13-F41 -> 0 | G43: =G13-G41 -> 0 | H43: =H13-H41 -> 0 | I43: =I13-I41 -> 0 | ... O43: =O13-O41 -> 45600
A44: Opsparingsrate | B44: =IF(B13=0,"-",(B13-B41)/B13) -> 0.38121746 | C44: =IF(C13=0,"-",(C13-C41)/C13) -> 0.40832143 | D44: =IF(D13=0,"-",(D13-D41)/D13) -> - | E44: =IF(E13=0,"-",(E13-E41)/E13) -> - | F44: =IF(F13=0,"-",(F13-F41)/F13) -> - | G44: =IF(G13=0,"-",(G13-G41)/G13) -> - | H44: =IF(H13=0,"-",(H13-H41)/H13) -> - | I44: =IF(I13=0,"-",(I13-I41)/I13) -> - | ... N44: =IF(N13=0,"-",(N13-N41)/N13) -> 0.39397227
A46: Over / under: positivt = bedre end budget (flere indtægter eller lavere forbrug). Rødt = dårligere end budget.
